Workbook

Sheet 종합
A1: 인천국가산업단지 주요 통계 동향(2020.5월 현재)
A4: 출처 : www.kicox.or.kr-정보공개-산업단지정보
A5: 구 분 | B5: 산단 | C5: 전년 동기 대비 | F5: 전월대비
C6: 2019.05 | D6: 2020.05 | E6: 증감율(p.) | F6: 2020.04 | G6: 2020.05 | H6: 증감율(p.)
A7: 입주업체수(개사, %) | B7: 남동 | C7: =남동!H5 -> 6999 | D7: =남동!T5 -> 6806 | E7: =(D7-C7)/C7 -> -0.027575368 | F7: =남동!S5 -> 6798 | G7: =남동!T5 -> 6806 | H7: =(G7-F7)/F7 -> 0.0011768167
B8: 부평 | C8: =부평!H5 -> 953 | D8: =부평!T5 -> 1020 | E8: =(D8-C8)/C8 -> 0.070304302 | F8: =부평!S5 -> 1014 | G8: =부평!T5 -> 1020 | H8: =(G8-F8)/F8 -> 0.0059171598
B9: 주안 | C9: =주안!H5 -> 1111 | D9: =주안!T5 -> 1080 | E9: =(D9-C9)/C9 -> -0.02790279 | F9: =주안!S5 -> 1076 | G9: =주안!T5 -> 1080 | H9: =(G9-F9)/F9 -> 0.0037174721
A10: 가동업체수(개사, %) | B10: 남동 | C10: =남동!H33 -> 6818 | D10: =남동!T33 -> 6604 | E10: =(D10-C10)/C10 -> -0.031387504 | F10: =남동!S33 -> 6601 | G10: =남동!T33 -> 6604 | H10: =(G10-F10)/F10 -> 0.00045447659
B11: 부평 | C11: =부평!H33 -> 952 | D11: =부평!T33 -> 1005 | E11: =(D11-C11)/C11 -> 0.055672269 | F11: =부평!S33 -> 1005 | G11: =부평!T33 -> 1005 | H11: =(G11-F11)/F11 -> 0
B12: 주안 | C12: =주안!H33 -> 1111 | D12: =주안!T33 -> 1080 | E12: =(D12-C12)/C12 -> -0.02790279 | F12: =주안!S33 -> 1076 | G12: =주안!T33 -> 1080 | H12: =(G12-F12)/F12 -> 0.0037174721
A13: 가동률(%) | B13: 남동 | C13: =남동!H45 -> 62.346319 | D13: =남동!T45 -> 57.526 | E13: =(D13-C13)/C13 -> -0.077315215 | F13: =남동!S45 -> 59.299279 | G13: =남동!T45 -> 57.526 | H13: =(G13-F13)/F13 -> -0.029903882
B14: 부평 | C14: =부평!H45 -> 72.249616 | D14: =부평!T45 -> 68.201 | E14: =(D14-C14)/C14 -> -0.056036505 | F14: =부평!S45 -> 69.168895 | G14: =부평!T45 -> 68.201 | H14: =(G14-F14)/F14 -> -0.01399321
B15: 주안 | C15: =주안!H45 -> 77.454948 | D15: =주안!T45 -> 71.448666 | E15: =(D15-C15)/C15 -> -0.077545483 | F15: =주안!S45 -> 76.629716 | G15: =주안!T45 -> 71.448666 | H15: =(G15-F15)/F15 -> -0.067611491
A16: 생산실적(억원, %) | B16: 남동 | C16: =남동!H57 -> 22741.978 | D16: =남동!T57 -> 21327.316 | E16: =(D16-C16)/C16 -> -0.062204898 | F16: =남동!S57 -> 21731.776 | G16: =남동!T57 -> 21327.316 | H16: =(G16-F16)/F16 -> -0.01861147
B17: 부평 | C17: =부평!H57 -> 2557.3921 | D17: =부평!T57 -> 2292.62 | E17: =(D17-C17)/C17 -> -0.10353205 | F17: =부평!S57 -> 2328.5076 | G17: =부평!T57 -> 2292.62 | H17: =(G17-F17)/F17 -> -0.015412257
B18: 주안 | C18: =주안!H57 -> 2923.9105 | D18: =주안!T57 -> 2671.5266 | E18: =(D18-C18)/C18 -> -0.086317255 | F18: =주안!S57 -> 2891.2126 | G18: =주안!T57 -> 2671.5266 | H18: =(G18-F18)/F18 -> -0.075984036
A19: 수출실적(백만달러, %) | B19: 남동 | C19: =남동!H69 -> 410.24329 | D19: =남동!T69 -> 421.7925 | E19: =(D19-C19)/C19 -> 0.028152102 | F19: =남동!S69 -> 362.13429 | G19: =남동!T69 -> 421.7925 | H19: =(G19-F19)/F19 -> 0.16474058
B20: 부평 | C20: =부평!H69 -> 32.050123 | D20: =부평!T69 -> 30.3711 | E20: =(D20-C20)/C20 -> -0.052387422 | F20: =부평!S69 -> 30.237123 | G20: =부평!T69 -> 30.3711 | H20: =(G20-F20)/F20 -> 0.0044308668
B21: 주안 | C21: =주안!H69 -> 65.011697 | D21: =주안!T69 -> 50.279697 | E21: =(D21-C21)/C21 -> -0.22660538 | F21: =주안!S69 -> 51.444697 | G21: =주안!T69 -> 50.279697 | H21: =(G21-F21)/F21 -> -0.022645677
A22: 고용현황(명, %) | B22: 남동 | C22: =남동!H82 -> 103090 | D22: =남동!T82 -> 102681 | E22: =(D22-C22)/C22 -> -0.0039674071 | F22: =남동!S82 -> 103247 | G22: =남동!T82 -> 102681 | H22: =(G22-F22)/F22 -> -0.0054819995
B23: 부평 | C23: =부평!H82 -> 13976 | D23: =부평!T82 -> 13519 | E23: =(D23-C23)/C23 -> -0.032698912 | F23: =부평!S82 -> 13611 | G23: =부평!T82 -> 13519 | H23: =(G23-F23)/F23 -> -0.0067592389
B24: 주안 | C24: =주안!H82 -> 12705 | D24: =주안!T82 -> 12005 | E24: =(D24-C24)/C24 -> -0.055096419 | F24: =주안!S82 -> 12060 | G24: =주안!T82 -> 12005 | H24: =(G24-F24)/F24 -> -0.0045605307

Sheet 남동
A1: 남동국가 산업단지 현황(2019.01~)
A3: 출처 : www.kicox.or.kr-정보공개-산업단지정보
A4: 구 분 | D4: 2019.1 | E4: 2 | F4: 3 | G4: 4 | H4: 5 | I4: 6 | J4: 7 | K4: 8 | L4: 9 | M4: 10 | N4: 11 | O4: 12 | P4: 2020.1 | Q4: 2 | R4: 3 | S4: 4 | T4: 5
A5: 입주업체수 (개사, %) | C5: 업체수 | D5: 6906 | E5: 6914 | F5: 6933 | G5: 6975 | H5: 6999 | I5: 7025 | J5: 6988 | K5: 6936 | L5: 6824 | M5: 6761 | N5: 6751 | O5: 6775 | P5: 6777 | Q5: 6792 | R5: 6802 | S5: 6798 | T5: 6806
C6: 증감률(전월대비) | E6: =(E5-D5)/D5 -> 0.001158413 | F6: =(F5-E5)/E5 -> 0.0027480474 | G6: =(G5-F5)/F5 -> 0.0060579836 | H6: =(H5-G5)/G5 -> 0.0034408602 | I6: =(I5-H5)/H5 -> 0.0037148164 | J6: =(J5-I5)/I5 -> -0.0052669039 | K6: =(K5-J5)/J5 -> -0.007441328 | L6: =(L5-K5)/K5 -> -0.016147636 | ... T6: =(T5-S5)/S5 -> 0.0011768167
A7: 임차업체수 (개사, %) | C7: 업체수 | D7: 4710 | E7: 4718 | F7: 4736 | G7: 4774 | H7: 4786 | I7: 4809 | J7: 4753 | K7: 4697 | L7: 4581 | M7: 4518 | N7: 4492 | O7: 4495 | P7: 4483 | Q7: 4487 | R7: 4482 | S7: 4469 | T7: 4462
C8: 증감률(전월대비) | E8: =(E7-D7)/D7 -> 0.0016985138 | F8: =(F7-E7)/E7 -> 0.0038151759 | G8: =(G7-F7)/F7 -> 0.0080236486 | H8: =(H7-G7)/G7 -> 0.0025136154 | I8: =(I7-H7)/H7 -> 0.0048056832 | J8: =(J7-I7)/I7 -> -0.011644833 | K8: =(K7-J7)/J7 -> -0.011782032 | L8: =(L7-K7)/K7 -> -0.024696615 | ... T8: =(T7-S7)/S7 -> -0.0015663459
A9: 업종별 입주업체수(개사, %) | B9: 음식료 | C9: 업체수 | D9: 173 | E9: 173 | F9: 173 | G9: 174 | H9: 175 | I9: 176 | J9: 181 | K9: 183 | L9: 183 | M9: 180 | N9: 177 | O9: 176 | P9: 176 | Q9: 175 | R9: 175 | S9: 175 | T9: 179
B10: 섬유의복 | C10: 업체수 | D10: 70 | E10: 70 | F10: 70 | G10: 71 | H10: 70 | I10: 75 | J10: 74 | K10: 73 | L10: 73 | M10: 75 | N10: 73 | O10: 74 | P10: 76 | Q10: 76 | R10: 77 | S10: 81 | T10: 89
B11: 목재종이 | C11: 업체수 | D11: 299 | E11: 300 | F11: 302 | G11: 304 | H11: 304 | I11: 300 | J11: 297 | K11: 297 | L11: 293 | M11: 290 | N11: 290 | O11: 288 | P11: 288 | Q11: 287 | R11: 287 | S11: 288 | T11: 293
B12: 석유화학 | C12: 업체수 | D12: 791 | E12: 791 | F12: 792 | G12: 794 | H12: 795 | I12: 801 | J12: 800 | K12: 797 | L12: 790 | M12: 788 | N12: 783 | O12: 784 | P12: 785 | Q12: 787 | R12: 785 | S12: 787 | T12: 784
B13: 비금속 | C13: 업체수 | D13: 60 | E13: 60 | F13: 59 | G13: 59 | H13: 60 | I13: 59 | J13: 59 | K13: 59 | L13: 58 | M13: 58 | N13: 58 | O13: 58 | P13: 58 | Q13: 58 | R13: 59 | S13: 59 | T13: 58
B14: 철강 | C14: 업체수 | D14: 151 | E14: 151 | F14: 152 | G14: 152 | H14: 150 | I14: 152 | J14: 151 | K14: 151 | L14: 151 | M14: 149 | N14: 149 | O14: 148 | P14: 147 | Q14: 148 | R14: 149 | S14: 149 | T14: 148
B15: 기계 | C15: 업체수 | D15: 3700 | E15: 3697 | F15: 3704 | G15: 3719 | H15: 3730 | I15: 3740 | J15: 3709 | K15: 3674 | L15: 3592 | M15: 3557 | N15: 3557 | O15: 3564 | P15: 3564 | Q15: 3574 | R15: 3577 | S15: 3571 | T15: 3562
B16: 전기전자 | C16: 업체수 | D16: 1187 | E16: 1193 | F16: 1201 | G16: 1217 | H16: 1226 | I16: 1229 | J16: 1225 | K16: 1210 | L16: 1196 | M16: 1181 | N16: 1184 | O16: 1184 | P16: 1180 | Q16: 1184 | R16: 1188 | S16: 1180 | T16: 1184
B17: 운송장비 | C17: 업체수 | D17: 241 | E17: 241 | F17: 241 | G17: 243 | H17: 244 | I17: 243 | J17: 243 | K17: 242 | L17: 237 | M17: 233 | N17: 223 | O17: 234 | P17: 234 | Q17: 232 | R17: 231 | S17: 232 | T17: 232
B18: 기타 | C18: 업체수 | D18: 190 | E18: 193 | F18: 195 | G18: 197 | H18: 198 | I18: 203 | J18: 203 | K18: 204 | L18: 203 | M18: 200 | N18: 204 | O18: 207 | P18: 209 | Q18: 211 | R18: 211 | S18: 212 | T18: 214
B19: 비제조 | C19: 업체수 | D19: 44 | E19: 45 | F19: 44 | G19: 45 | H19: 47 | I19: 47 | J19: 46 | K19: 46 | L19: 48 | M19: 50 | N19: 53 | O19: 58 | P19: 60 | Q19: 60 | R19: 63 | S19: 64 | T19: 63
B20: 계 | C20: 업체수 | D20: =D9+D10+D11+D12+D13+D14+D15+D16+D17+D18+D19 -> 6906 | E20: =E9+E10+E11+E12+E13+E14+E15+E16+E17+E18+E19 -> 6914 | F20: =F9+F10+F11+F12+F13+F14+F15+F16+F17+F18+F19 -> 6933 | G20: =G9+G10+G11+G12+G13+G14+G15+G16+G17+G18+G19 -> 6975 | H20: =H9+H10+H11+H12+H13+H14+H15+H16+H17+H18+H19 -> 6999 | I20: =I9+I10+I11+I12+I13+I14+I15+I16+I17+I18+I19 -> 7025 | J20: =J9+J10+J11+J12+J13+J14+J15+J16+J17+J18+J19 -> 6988 | K20: =K9+K10+K11+K12+K13+K14+K15+K16+K17+K18+K19 -> 6936 | ... S20: =S9+S10+S11+S12+S13+S14+S15+S16+S17+S18+S19 -> 6798 | T20: =SUM(T9:T19) -> 6806
C21: 증감률(전월대비) | E21: =(E20-D20)/D20 -> 0.001158413 | F21: =(F20-E20)/E20 -> 0.0027480474 | G21: =(G20-F20)/F20 -> 0.0060579836 | H21: =(H20-G20)/G20 -> 0.0034408602 | I21: =(I20-H20)/H20 -> 0.0037148164 | J21: =(J20-I20)/I20 -> -0.0052669039 | K21: =(K20-J20)/J20 -> -0.007441328 | L21: =(L20-K20)/K20 -> -0.016147636 | ... T21: =(T20-S20)/S20 -> 0.0011768167
A22: 업종별 가동업체수(개사, %) | B22: 음식료 | C22: 업체수 | D22: 168 | E22: 168 | F22: 168 | G22: 169 | H22: 170 | I22: 169 | J22: 175 | K22: 177 | L22: 177 | M22: 176 | N22: 173 | O22: 171 | P22: 171 | Q22: 170 | R22: 170 | S22: 171 | T22: 174
B23: 섬유의복 | C23: 업체수 | D23: 69 | E23: 69 | F23: 69 | G23: 70 | H23: 70 | I23: 74 | J23: 73 | K23: 72 | L23: 72 | M23: 72 | N23: 71 | O23: 72 | P23: 73 | Q23: 73 | R23: 72 | S23: 76 | T23: 84
B24: 목재종이 | C24: 업체수 | D24: 290 | E24: 291 | F24: 293 | G24: 296 | H24: 295 | I24: 292 | J24: 289 | K24: 288 | L24: 284 | M24: 281 | N24: 281 | O24: 280 | P24: 280 | Q24: 280 | R24: 280 | S24: 282 | T24: 286
B25: 석유화학 | C25: 업체수 | D25: 768 | E25: 771 | F25: 771 | G25: 774 | H25: 777 | I25: 783 | J25: 784 | K25: 781 | L25: 773 | M25: 772 | N25: 767 | O25: 766 | P25: 767 | Q25: 768 | R25: 766 | S25: 767 | T25: 763
B26: 비금속 | C26: 업체수 | D26: 58 | E26: 58 | F26: 57 | G26: 57 | H26: 58 | I26: 57 | J26: 57 | K26: 57 | L26: 56 | M26: 56 | N26: 56 | O26: 56 | P26: 56 | Q26: 56 | R26: 57 | S26: 57 | T26: 56
B27: 철강 | C27: 업체수 | D27: 150 | E27: 150 | F27: 151 | G27: 151 | H27: 149 | I27: 151 | J27: 149 | K27: 149 | L27: 149 | M27: 147 | N27: 147 | O27: 146 | P27: 144 | Q27: 145 | R27: 146 | S27: 146 | T27: 145
B28: 기계 | C28: 업체수 | D28: 3604 | E28: 3603 | F28: 3611 | G28: 3622 | H28: 3629 | I28: 3637 | J28: 3604 | K28: 3571 | L28: 3491 | M28: 3462 | N28: 3455 | O28: 3462 | P28: 3463 | Q28: 3478 | R28: 3473 | S28: 3476 | T28: 3459
B29: 전기전자 | C29: 업체수 | D29: 1153 | E29: 1160 | F29: 1168 | G29: 1186 | H29: 1195 | I29: 1200 | J29: 1189 | K29: 1176 | L29: 1161 | M29: 1146 | N29: 1150 | O29: 1147 | P29: 1136 | Q29: 1138 | R29: 1142 | S29: 1137 | T29: 1143
B30: 운송장비 | C30: 업체수 | D30: 236 | E30: 236 | F30: 236 | G30: 238 | H30: 237 | I30: 238 | J30: 237 | K30: 235 | L30: 232 | M30: 229 | N30: 218 | O30: 229 | P30: 229 | Q30: 226 | R30: 225 | S30: 223 | T30: 225
B31: 기타 | C31: 업체수 | D31: 185 | E31: 188 | F31: 190 | G31: 192 | H31: 192 | I31: 194 | J31: 194 | K31: 196 | L31: 195 | M31: 192 | N31: 194 | O31: 196 | P31: 197 | Q31: 200 | R31: 200 | S31: 202 | T31: 206
B32: 비제조 | C32: 업체수 | D32: 34 | E32: 33 | F32: 44 | G32: 44 | H32: 46 | I32: 46 | J32: 46 | K32: 46 | L32: 48 | M32: 50 | N32: 53 | O32: 58 | P32: 60 | Q32: 60 | R32: 63 | S32: 64 | T32: 63
B33: 계 | C33: 업체수 | D33: =D22+D23+D24+D25+D26+D27+D28+D29+D30+D31+D32 -> 6715 | E33: =E22+E23+E24+E25+E26+E27+E28+E29+E30+E31+E32 -> 6727 | F33: =F22+F23+F24+F25+F26+F27+F28+F29+F30+F31+F32 -> 6758 | G33: =G22+G23+G24+G25+G26+G27+G28+G29+G30+G31+G32 -> 6799 | H33: =H22+H23+H24+H25+H26+H27+H28+H29+H30+H31+H32 -> 6818 | I33: =I22+I23+I24+I25+I26+I27+I28+I29+I30+I31+I32 -> 6841 | J33: =J22+J23+J24+J25+J26+J27+J28+J29+J30+J31+J32 -> 6797 | K33: =K22+K23+K24+K25+K26+K27+K28+K29+K30+K31+K32 -> 6748 | ... S33: =S22+S23+S24+S25+S26+S27+S28+S29+S30+S31+S32 -> 6601 | T33: =SUM(T22:T32) -> 6604
C34: 증감률(전월대비) | E34: =(E33-D33)/D33 -> 0.0017870439 | F34: =(F33-E33)/E33 -> 0.0046082949 | G34: =(G33-F33)/F33 -> 0.0060668837 | H34: =(H33-G33)/G33 -> 0.0027945286 | I34: =(I33-H33)/H33 -> 0.0033734233 | J34: =(J33-I33)/I33 -> -0.0064318082 | K34: =(K33-J33)/J33 -> -0.0072090628 | L34: =(L33-K33)/K33 -> -0.016301126 | ... T34: =(T33-S33)/S33 -> 0.00045447659
A35: 업종별 가동률(%) | B35: 음식료 | C35: 가동률 | D35: 80.447287 | E35: 61.519856 | F35: 76.352736 | G35: 78.433131 | H35: 76.744263 | I35: 76.782339 | J35: 75.802615 | K35: 79.851228 | L35: 79.432187 | M35: 82.594969 | N35: 79.42849 | O35: 76.900602 | P35: 77.260803 | Q35: 71.3 | R35: 73.993116 | S35: 79.142138 | T35: 79.5
B36: 섬유의복 | C36: 가동률 | D36: 76.230315 | E36: 48.163007 | F36: 61.857611 | G36: 62.233948 | H36: 75.084595 | I36: 71.893597 | J36: 78.839213 | K36: 73.198104 | L36: 83.200544 | M36: 80.066742 | N36: 72.938214 | O36: 64.602998 | P36: 42.908054 | Q36: 46 | R36: 45.153957 | S36: 47.766732 | T36: 57.1
A37: 가동률은 제조업 가동업체 대상 | B37: 목재종이 | C37: 가동률 | D37: 75.007561 | E37: 71.095198 | F37: 79.655716 | G37: 78.060001 | H37: 68.852998 | I37: 69.528402 | J37: 70.450996 | K37: 70.841242 | L37: 74.352283 | M37: 67.338378 | N37: 73.104098 | O37: 64.270668 | P37: 68.29155 | Q37: 69.3 | R37: 70.658291 | S37: 67.375389 | T37: 64.5
B38: 석유화학 | C38: 가동률 | D38: 70.060642 | E38: 75.78858 | F38: 69.965915 | G38: 75.463959 | H38: 72.892703 | I38: 67.232948 | J38: 71.66162 | K38: 67.674328 | L38: 70.016631 | M38: 70.449464 | N38: 69.583156 | O38: 67.866195 | P38: 65.984335 | Q38: 68.7 | R38: 71.551126 | S38: 67.515145 | T38: 61.3
B39: 비금속 | C39: 가동률 | D39: 80.275126 | E39: 20 | F39: 85.650123 | G39: 78.962721 | H39: 78.433517 | I39: 74.727774 | J39: 62.540476 | K39: 76.998961 | L39: 70.560824 | M39: 72.773353 | N39: 68.552809 | O39: 84.83478 | P39: 76.180646 | Q39: 76.7 | R39: 62.786157 | S39: 55.737785 | T39: 60.7
B40: 철강 | C40: 가동률 | D40: 87.140934 | E40: 76.846345 | F40: 88.691324 | G40: 90.883519 | H40: 90.076281 | I40: 88.591539 | J40: 85.85072 | K40: 87.838148 | L40: 86.045752 | M40: 89.962139 | N40: 86.907633 | O40: 86.660151 | P40: 84.773296 | Q40: 84.9 | R40: 87.560513 | S40: 86.155967 | T40: 80.4
B41: 기계 | C41: 가동률 | D41: 65.587636 | E41: 43.941984 | F41: 62.819017 | G41: 51.108308 | H41: 54.993707 | I41: 55.853205 | J41: 55.819259 | K41: 54.211832 | L41: 51.081678 | M41: 55.650195 | N41: 53.543104 | O41: 52.357306 | P41: 49.922955 | Q41: 49.8 | R41: 53.862138 | S41: 54.45019 | T41: 54.3
B42: 전기전자 | C42: 가동률 | D42: 60.684572 | E42: 73.63446 | F42: 66.443172 | G42: 64.866632 | H42: 64.212522 | I42: 61.249237 | J42: 64.597083 | K42: 60.93827 | L42: 64.443351 | M42: 65.138402 | N42: 64.125953 | O42: 66.324095 | P42: 59.491331 | Q42: 62.1 | R42: 61.900073 | S42: 56.415069 | T42: 55.4
B43: 운송장비 | C43: 가동률 | D43: 64.984537 | E43: 83.491609 | F43: 69.742958 | G43: 71.481368 | H43: 68.398667 | I43: 68.266463 | J43: 68.718505 | K43: 73.767818 | L43: 60.810076 | M43: 69.410144 | N43: 65.733689 | O43: 66.170284 | P43: 62.810165 | Q43: 62.6 | R43: 64.828357 | S43: 54.997177 | T43: 49.7
B44: 기타 | C44: 가동률 | D44: 71.160094 | E44: 45.524431 | F44: 69.398064 | G44: 71.649915 | H44: 60.555955 | I44: 65.884127 | J44: 65.695647 | K44: 70.500449 | L44: 68.881458 | M44: 72.489453 | N44: 76.171693 | O44: 78.429954 | P44: 75.538029 | Q44: 75.6 | R44: 71.958014 | S44: 67.841922 | T44: 66.8
B45: 전체 | C45: 가동률 | D45: 67.03238 | E45: 60.577833 | F45: 66.871355 | G45: 61.260537 | H45: 62.346319 | I45: 61.563276 | J45: 62.543621 | K45: 61.01969 | L45: 59.421087 | M45: 62.776178 | N45: 61.330128 | O45: 60.482539 | P45: 57.570306 | Q45: 58.4 | R45: 61.13134 | S45: 59.299279 | T45: 57.526
C46: 증감률(전월대비) | E46: =(E45-D45)/D45 -> -0.096289983 | F46: =(F45-E45)/E45 -> 0.10389149 | G46: =(G45-F45)/F45 -> -0.083904655 | H46: =(H45-G45)/G45 -> 0.017724009 | I46: =(I45-H45)/H45 -> -0.012559575 | J46: =(J45-I45)/I45 -> 0.01592419 | K46: =(K45-J45)/J45 -> -0.024365899 | L46: =(L45-K45)/K45 -> -0.026198149 | ... T46: =(T45-S45)/S45 -> -0.029903882
A47: 업종별 생산실적(억원, %) | B47: 음식료 | C47: 생산액 | D47: 452.72283 | E47: 411.77101 | F47: 453.23164 | G47: 475.04593 | H47: 464.81696 | I47: 467.21942 | J47: 464.30886 | K47: 461.81664 | L47: 453.71108 | M47: 484.86077 | N47: 465.55759 | O47: 450.52545 | P47: 441.54474 | Q47: 419 | R47: 438.45553 | S47: 488.57021 | T47: 599
B48: 섬유의복 | C48: 생산액 | D48: 139.41 | E48: 129.86 | F48: 101.83 | G48: 104.97 | H48: 126.48 | I48: 120.81 | J48: 135.43 | K48: 121.97 | L48: 134.71 | M48: 134.36 | N48: 107.19 | O48: 93.08 | P48: 60.2 | Q48: 65 | R48: 65.55 | S48: 68.23 | T48: 88
A49: 제조업 가동업체 대상 | B49: 목재종이 | C49: 생산액 | D49: 829.10657 | E49: 729.98229 | F49: 889.42457 | G49: 884.48114 | H49: 780.15857 | I49: 787.81143 | J49: 798.26514 | K49: 794.25257 | L49: 860.97543 | M49: 783.47914 | N49: 829.36286 | O49: 726.61057 | P49: 771.19105 | Q49: 782 | R49: 807.83819 | S49: 774.38648 | T49: 742
B50: 석유화학 | C50: 생산액 | D50: 3137.95 | E50: 2879.7266 | F50: 3180.4844 | G50: 3600.475 | H50: 3446.8228 | I50: 3191.0855 | J50: 3465.1834 | K50: 3247.8603 | L50: 3368.4019 | M50: 3417.5119 | N50: 3409.8911 | O50: 3372.4147 | P50: 3342.4632 | Q50: 3574 | R50: 3743.4506 | S50: 3639.0615 | T50: 3261
B51: 비금속 | C51: 생산액 | D51: 116.2725 | E51: 120.1225 | F51: 152.0825 | G51: 138.0525 | H51: 148.7825 | I51: 124.0425 | J51: 103.8125 | K51: 127.8125 | L51: 119.2425 | M51: 123.1125 | N51: 115.9725 | O51: 134.5925 | P51: 120.8625 | Q51: 118 | R51: 96.4725 | S51: 85.6425 | T51: 93
B52: 철강 | C52: 생산액 | D52: 1523.0151 | E52: 1421.8725 | F52: 1568.9636 | G52: 1616.269 | H52: 1618.1772 | I52: 1573.0864 | J52: 1528.5361 | K52: 1523.6318 | L52: 1508.3752 | M52: 1582.1398 | N52: 1517.3247 | O52: 1595.2238 | P52: 1491.2227 | Q52: 1529 | R52: 1625.6124 | S52: 1607.973 | T52: 1477
B53: 기계 | C53: 생산액 | D53: 14138.398 | E53: 13401.381 | F53: 12418.801 | G53: 10109.182 | H53: 10755.516 | I53: 10973.138 | J53: 10954.065 | K53: 11007.091 | L53: 10288.993 | M53: 10892.963 | N53: 10131.724 | O53: 10331.315 | P53: 9675.5702 | Q53: 9454 | R53: 10337.835 | S53: 10365.909 | T53: 10518
B54: 전기전자 | C54: 생산액 | D54: 3361.8282 | E54: 3380.3668 | F54: 3749.1417 | G54: 3674.1183 | H54: 3637.4308 | I54: 3442.2697 | J54: 3651.0139 | K54: 3381.8096 | L54: 3632.9192 | M54: 3615.9666 | N54: 3631.404 | O54: 3702.3448 | P54: 3237.4785 | Q54: 3506 | R54: 3531.5358 | S54: 3156.0572 | T54: 3124
B55: 운송장비 | C55: 생산액 | D55: 1407.0021 | E55: 1256.6354 | F55: 1519.7504 | G55: 1564.6821 | H55: 1479.6754 | I55: 1508.7004 | J55: 1493.6954 | K55: 1690.2521 | L55: 1357.6054 | M55: 1567.3021 | N55: 1489.5387 | O55: 1499.4321 | P55: 1379.9521 | Q55: 1345 | R55: 1429.8004 | S55: 1212.9721 | T55: 1102
B56: 기타 | C56: 생산액 | D56: 356.86386 | E56: 294.14061 | F56: 327.10386 | G56: 335.81911 | H56: 284.11786 | I56: 308.45786 | J56: 305.30236 | K56: 329.18236 | L56: 324.86036 | M56: 359.81761 | N56: 489.95336 | O56: 506.73386 | P56: 484.22353 | Q56: 485 | R56: 461.83303 | S56: 332.97428 | T56: 323
B57: 계 | C57: 생산액 | D57: =D47+D48+D49+D50+D51+D52+D53+D54+D55+D56 -> 25462.569 | E57: =E47+E48+E49+E50+E51+E52+E53+E54+E55+E56 -> 24025.858 | F57: =F47+F48+F49+F50+F51+F52+F53+F54+F55+F56 -> 24360.814 | G57: =G47+G48+G49+G50+G51+G52+G53+G54+G55+G56 -> 22503.095 | H57: =H47+H48+H49+H50+H51+H52+H53+H54+H55+H56 -> 22741.978 | I57: =I47+I48+I49+I50+I51+I52+I53+I54+I55+I56 -> 22496.621 | J57: =J47+J48+J49+J50+J51+J52+J53+J54+J55+J56 -> 22899.613 | K57: =K47+K48+K49+K50+K51+K52+K53+K54+K55+K56 -> 22685.679 | ... S57: =S47+S48+S49+S50+S51+S52+S53+S54+S55+S56 -> 21731.776 | T57: 21327.316
C58: 증감률(전월대비) | E58: =(E57-D57)/D57 -> -0.056424409 | F58: =(F57-E57)/E57 -> 0.013941471 | G58: =(G57-F57)/F57 -> -0.076258482 | H58: =(H57-G57)/G57 -> 0.010615562 | I58: =(I57-H57)/H57 -> -0.01078873 | J58: =(J57-I57)/I57 -> 0.017913409 | K58: =(K57-J57)/J57 -> -0.0093422394 | L58: =(L57-K57)/K57 -> -0.028030247 | ... T58: =(T57-S57)/S57 -> -0.01861147
A59: 업종별 수출실적(백만달러, %) | B59: 음식료 | C59: 수출액 | D59: 0.86726333 | E59: 1.1802633 | F59: 1.0117078 | G59: 0.50433333 | H59: 0.45455556 | I59: 0.75033333 | J59: 0.30133333 | K59: 0.66255556 | L59: 0.52188889 | M59: 0.58155556 | N59: 0.78233333 | O59: 1.6826667 | P59: 0.95588889 | Q59: 1 | R59: 1.2627778 | S59: 1.0818889 | T59: 1
B60: 섬유의복 | C60: 수출액 | D60: 2.7666 | E60: 1.9956 | F60: 2.3396 | G60: 2.4456 | H60: 2.5646 | I60: 2.1876 | J60: 1.9886 | K60: 1.7706 | L60: 1.5346 | M60: 2.4976 | N60: 2.3816 | O60: 2.3616 | P60: 1.5336 | Q60: 2 | R60: 2.2136 | S60: 1.8576 | T60: 2
A61: 제조업 가동업체 대상 | B61: 목재종이 | C61: 수출액 | D61: 9.8896 | E61: 8.5552 | F61: 9.1852 | G61: 7.8166 | H61: 6.9652 | I61: 5.4502 | J61: 7.0372 | K61: 8.1766 | L61: 7.2334 | M61: 7.3276 | N61: 7.363 | O61: 7.816 | P61: 6.9064 | Q61: 8 | R61: 7.6198 | S61: 3.598 | T61: 5
B62: 석유화학 | C62: 수출액 | D62: 46.943593 | E62: 47.399468 | F62: 48.518489 | G62: 59.539919 | H62: 56.999919 | I62: 59.927794 | J62: 52.830139 | K62: 51.864666 | L62: 56.56948 | M62: 59.578054 | N62: 61.153783 | O62: 60.301342 | P62: 62.5077 | Q62: 56 | R62: 63.624914 | S62: 67.7937 | T62: 65
B63: 비금속 | C63: 수출액 | D63: 1.751 | E63: 2.467 | F63: 2.237 | G63: 1.548 | H63: 3.678 | I63: 2.503 | J63: 1.068 | K63: 2.444 | L63: 1.633 | M63: 1.661 | N63: 1.734 | O63: 2.538 | P63: 2.235 | Q63: 2 | R63: 1.692 | S63: 0.51 | T63: 1
B64: 철강 | C64: 수출액 | D64: 26.126963 | E64: 23.224392 | F64: 29.829992 | G64: 24.6946 | H64: 24.1318 | I64: 26.0868 | J64: 21.5744 | K64: 34.5416 | L64: 21.8938 | M64: 27.641 | N64: 24.7626 | O64: 25.1676 | P64: 22.352 | Q64: 25 | R64: 24.1982 | S64: 25.3184 | T64: 25
B65: 기계 | C65: 수출액 | D65: 184.18986 | E65: 160.5004 | F65: 174.01153 | G65: 150.76763 | H65: 165.59198 | I65: 171.61716 | J65: 163.05707 | K65: 127.89004 | L65: 131.11809 | M65: 149.06108 | N65: 134.20573 | O65: 202.67175 | P65: 124.21844 | Q65: 144 | R65: 141.23528 | S65: 143.38139 | T65: 213
B66: 전기전자 | C66: 수출액 | D66: 105.41309 | E66: 95.198086 | F66: 107.61995 | G66: 114.78802 | H66: 111.13999 | I66: 97.741994 | J66: 101.31899 | K66: 101.24261 | L66: 104.47407 | M66: 114.94299 | N66: 102.84638 | O66: 109.97938 | P66: 105.75869 | Q66: 110 | R66: 115.68876 | S66: 91.284994 | T66: 89
B67: 운송장비 | C67: 수출액 | D67: 44.589311 | E67: 42.447645 | F67: 43.532311 | G67: 41.650978 | H67: 35.675645 | I67: 42.764645 | J67: 37.07025 | K67: 31.10925 | L67: 33.31925 | M67: 40.441917 | N67: 35.411917 | O67: 38.547583 | P67: 35.95325 | Q67: 34 | R67: 35.46225 | S67: 24.026917 | T67: 20
B68: 기타 | C68: 수출액 | D68: 2.5499 | E68: 2.0747 | F68: 2.6858 | G68: 2.8164 | H68: 3.0416 | I68: 2.9423 | J68: 3.1613 | K68: 3.5569 | L68: 2.8312 | M68: 3.1074 | N68: 3.69 | O68: 3.8442 | P68: 3.2757 | Q68: 3 | R68: 3.3254 | S68: 3.2814 | T68: 2
B69: 계 | C69: 수출액 | D69: =D59+D60+D61+D62+D63+D64+D65+D66+D67+D68 -> 425.08718 | E69: =E59+E60+E61+E62+E63+E64+E65+E66+E67+E68 -> 385.04275 | F69: =F59+F60+F61+F62+F63+F64+F65+F66+F67+F68 -> 420.97157 | G69: =G59+G60+G61+G62+G63+G64+G65+G66+G67+G68 -> 406.57208 | H69: =H59+H60+H61+H62+H63+H64+H65+H66+H67+H68 -> 410.24329 | I69: =I59+I60+I61+I62+I63+I64+I65+I66+I67+I68 -> 411.97183 | J69: =J59+J60+J61+J62+J63+J64+J65+J66+J67+J68 -> 389.40729 | K69: =K59+K60+K61+K62+K63+K64+K65+K66+K67+K68 -> 363.25882 | ... S69: =S59+S60+S61+S62+S63+S64+S65+S66+S67+S68 -> 362.13429 | T69: 421.7925
C70: 증감률(전월대비) | E70: =(E69-D69)/D69 -> -0.094202853 | F70: =(F69-E69)/E69 -> 0.093311247 | G70: =(G69-F69)/F69 -> -0.034205363 | H70: =(H69-G69)/G69 -> 0.0090296517 | I70: =(I69-H69)/H69 -> 0.0042134433 | J70: =(J69-I69)/I69 -> -0.054772048 | K70: =(K69-J69)/J69 -> -0.067149406 | L70: =(L69-K69)/K69 -> -0.005863699 | ... T70: =(T69-S69)/S69 -> 0.16474058
A71: 업종별 고용현황(명, %) | B71: 음식료 | C71: 고용인원 | D71: 2762 | E71: 2656 | F71: 2907 | G71: 2878 | H71: 2820 | I71: 2819 | J71: 2919 | K71: 2855 | L71: 2577 | M71: 2592 | N71: 2575 | O71: 2390 | P71: 2443 | Q71: 2546 | R71: 2408 | S71: 2545 | T71: 2452
B72: 섬유의복 | C72: 고용인원 | D72: 720 | E72: 720 | F72: 718 | G72: 718 | H72: 719 | I72: 720 | J72: 716 | K72: 716 | L72: 694 | M72: 693 | N72: 693 | O72: 693 | P72: 662 | Q72: 663 | R72: 657 | S72: 659 | T72: 659
B73: 목재종이 | C73: 고용인원 | D73: 4282 | E73: 4268 | F73: 4326 | G73: 4347 | H73: 4339 | I73: 4333 | J73: 4321 | K73: 4283 | L73: 4240 | M73: 4282 | N73: 4169 | O73: 4160 | P73: 4203 | Q73: 4187 | R73: 4252 | S73: 4270 | T73: 4293
B74: 석유화학 | C74: 고용인원 | D74: 19033 | E74: 18983 | F74: 19283 | G74: 19311 | H74: 19277 | I74: 19295 | J74: 19367 | K74: 19289 | L74: 19378 | M74: 19002 | N74: 18920 | O74: 18799 | P74: 19183 | Q74: 19078 | R74: 19054 | S74: 19291 | T74: 19278
B75: 비금속 | C75: 고용인원 | D75: 372 | E75: 371 | F75: 380 | G75: 380 | H75: 383 | I75: 381 | J75: 380 | K75: 379 | L75: 376 | M75: 376 | N75: 378 | O75: 351 | P75: 356 | Q75: 356 | R75: 354 | S75: 354 | T75: 355
B76: 철강 | C76: 고용인원 | D76: 3545 | E76: 3536 | F76: 3524 | G76: 3495 | H76: 3531 | I76: 3541 | J76: 3497 | K76: 3468 | L76: 3466 | M76: 3494 | N76: 3465 | O76: 3475 | P76: 3484 | Q76: 3471 | R76: 3476 | S76: 3450 | T76: 3463
B77: 기계 | C77: 고용인원 | D77: 47585 | E77: 47192 | F77: 48508 | G77: 48380 | H77: 48472 | I77: 48074 | J77: 47951 | K77: 47837 | L77: 48444 | M77: 48034 | N77: 47737 | O77: 47734 | P77: 49243 | Q77: 49323 | R77: 48981 | S77: 48945 | T77: 48440
B78: 전기전자 | C78: 고용인원 | D78: 14665 | E78: 14558 | F78: 14472 | G78: 14447 | H78: 14381 | I78: 14275 | J78: 14314 | K78: 14788 | L78: 14864 | M78: 14887 | N78: 14881 | O78: 14854 | P78: 14857 | Q78: 14917 | R78: 14930 | S78: 14915 | T78: 14915
B79: 운송장비 | C79: 고용인원 | D79: 6440 | E79: 6462 | F79: 6398 | G79: 6496 | H79: 6457 | I79: 6464 | J79: 6439 | K79: 6450 | L79: 6422 | M79: 6411 | N79: 6402 | O79: 6375 | P79: 6254 | Q79: 6232 | R79: 6190 | S79: 6168 | T79: 6174
B80: 기타 | C80: 고용인원 | D80: 2346 | E80: 2332 | F80: 2307 | G80: 2297 | H80: 2317 | I80: 2310 | J80: 2307 | K80: 2305 | L80: 2299 | M80: 2304 | N80: 2317 | O80: 2318 | P80: 2338 | Q80: 2333 | R80: 2333 | S80: 2313 | T80: 2312
B81: 비제조 | C81: 고용인원 | D81: 441 | E81: 406 | F81: 404 | G81: 395 | H81: 394 | I81: 393 | J81: 395 | K81: 397 | L81: 397 | M81: 395 | N81: 394 | O81: 396 | P81: 349 | Q81: 344 | R81: 340 | S81: 337 | T81: 340
B82: 계 | C82: 고용인원 | D82: =D71+D72+D73+D74+D75+D76+D77+D78+D79+D80+D81 -> 102191 | E82: =E71+E72+E73+E74+E75+E76+E77+E78+E79+E80+E81 -> 101484 | F82: =F71+F72+F73+F74+F75+F76+F77+F78+F79+F80+F81 -> 103227 | G82: =G71+G72+G73+G74+G75+G76+G77+G78+G79+G80+G81 -> 103144 | H82: =H71+H72+H73+H74+H75+H76+H77+H78+H79+H80+H81 -> 103090 | I82: =I71+I72+I73+I74+I75+I76+I77+I78+I79+I80+I81 -> 102605 | J82: =J71+J72+J73+J74+J75+J76+J77+J78+J79+J80+J81 -> 102606 | K82: =K71+K72+K73+K74+K75+K76+K77+K78+K79+K80+K81 -> 102767 | ... S82: =S71+S72+S73+S74+S75+S76+S77+S78+S79+S80+S81 -> 103247 | T82: =SUM(T71:T81) -> 102681
C83: 증감률(전월대비) | E83: =(E82-D82)/D82 -> -0.0069184175 | F83: =(F82-E82)/E82 -> 0.017175121 | G83: =(G82-F82)/F82 -> -0.0008040532 | H83: =(H82-G82)/G82 -> -0.00052353991 | I83: =(I82-H82)/H82 -> -0.004704627 | J83: =(J82-I82)/I82 -> 9.7461137e-06 | K83: =(K82-J82)/J82 -> 0.001569109 | L83: =(L82-K82)/K82 -> 0.0037949926 | ... T83: =(T82-S82)/S82 -> -0.0054819995

Sheet 부평
A1: 부평국가 산업단지 현황(2019.01~)
A3: 출처 : www.kicox.or.kr-정보공개-산업단지정보
A4: 구 분 | D4: 2019.1 | E4: 2 | F4: 3 | G4: 4 | H4: 5 | I4: 6 | J4: 7 | K4: 8 | L4: 9 | M4: 10 | N4: 11 | O4: 12 | P4: 2020.1 | Q4: 2 | R4: 3 | S4: 4 | T4: 5
A5: 입주업체수 (개사, %) | C5: 업체수 | D5: 942 | E5: 942 | F5: 953 | G5: 953 | H5: 953 | I5: 961 | J5: 961 | K5: 966 | L5: 966 | M5: 966 | N5: 975 | O5: 980 | P5: 989 | Q5: 993 | R5: 1007 | S5: 1014 | T5: 1020
C6: 증감률(전월대비) | E6: =(E5-D5)/D5 -> 0 | F6: =(F5-E5)/E5 -> 0.011677282 | G6: =(G5-F5)/F5 -> 0 | H6: =(H5-G5)/G5 -> 0 | I6: =(I5-H5)/H5 -> 0.0083945435 | J6: =(J5-I5)/I5 -> 0 | K6: =(K5-J5)/J5 -> 0.0052029136 | L6: =(L5-K5)/K5 -> 0 | ... T6: =(T5-S5)/S5 -> 0.0059171598
A7: 임차업체수 (개사, %) | C7: 업체수 | D7: 424 | E7: 424 | F7: 426 | G7: 426 | H7: 426 | I7: 430 | J7: 430 | K7: 431 | L7: 431 | M7: 431 | N7: 436 | O7: 437 | P7: 437 | Q7: 437 | R7: 440 | S7: 439 | T7: 440
C8: 증감률(전월대비) | E8: =(E7-D7)/D7 -> 0 | F8: =(F7-E7)/E7 -> 0.0047169811 | G8: =(G7-F7)/F7 -> 0 | H8: =(H7-G7)/G7 -> 0 | I8: =(I7-H7)/H7 -> 0.0093896714 | J8: =(J7-I7)/I7 -> 0 | K8: =(K7-J7)/J7 -> 0.0023255814 | L8: =(L7-K7)/K7 -> 0 | ... T8: =(T7-S7)/S7 -> 0.0022779043
A9: 업종별 입주업체수(개사, %) | B9: 음식료 | C9: 업체수 | D9: 13 | E9: 13 | F9: 13 | G9: 13 | H9: 13 | I9: 13 | J9: 13 | K9: 13 | L9: 13 | M9: 13 | N9: 13 | O9: 13 | P9: 13 | Q9: 13 | R9: 13 | S9: 14 | T9: 13
B10: 섬유의복 | C10: 업체수 | D10: 40 | E10: 40 | F10: 40 | G10: 40 | H10: 40 | I10: 40 | J10: 40 | K10: 40 | L10: 40 | M10: 40 | N10: 40 | O10: 40 | P10: 41 | Q10: 41 | R10: 41 | S10: 42 | T10: 45
B11: 목재종이 | C11: 업체수 | D11: 27 | E11: 27 | F11: 27 | G11: 27 | H11: 27 | I11: 27 | J11: 27 | K11: 27 | L11: 27 | M11: 27 | N11: 27 | O11: 27 | P11: 27 | Q11: 27 | R11: 27 | S11: 28 | T11: 28
B12: 석유화학 | C12: 업체수 | D12: 64 | E12: 64 | F12: 64 | G12: 64 | H12: 64 | I12: 64 | J12: 64 | K12: 64 | L12: 64 | M12: 64 | N12: 64 | O12: 64 | P12: 65 | Q12: 68 | R12: 67 | S12: 67 | T12: 70
B13: 비금속 | C13: 업체수 | D13: 3 | E13: 3 | F13: 3 | G13: 3 | H13: 3 | I13: 3 | J13: 3 | K13: 3 | L13: 3 | M13: 3 | N13: 3 | O13: 3 | P13: 4 | Q13: 4 | R13: 4 | S13: 4 | T13: 4
B14: 철강 | C14: 업체수 | D14: 9 | E14: 9 | F14: 9 | G14: 9 | H14: 9 | I14: 9 | J14: 9 | K14: 9 | L14: 9 | M14: 9 | N14: 9 | O14: 9 | P14: 9 | Q14: 9 | R14: 9 | S14: 9 | T14: 9
B15: 기계 | C15: 업체수 | D15: 285 | E15: 285 | F15: 289 | G15: 289 | H15: 289 | I15: 289 | J15: 289 | K15: 291 | L15: 291 | M15: 291 | N15: 294 | O15: 296 | P15: 297 | Q15: 297 | R15: 300 | S15: 299 | T15: 300
B16: 전기전자 | C16: 업체수 | D16: 339 | E16: 339 | F16: 343 | G16: 343 | H16: 343 | I16: 351 | J16: 351 | K16: 354 | L16: 354 | M16: 354 | N16: 360 | O16: 363 | P16: 368 | Q16: 369 | R16: 379 | S16: 383 | T16: 382
B17: 운송장비 | C17: 업체수 | D17: 17 | E17: 17 | F17: 17 | G17: 17 | H17: 17 | I17: 17 | J17: 17 | K17: 17 | L17: 17 | M17: 17 | N17: 17 | O17: 17 | P17: 17 | Q17: 17 | R17: 17 | S17: 17 | T17: 17
B18: 기타 | C18: 업체수 | D18: 43 | E18: 43 | F18: 43 | G18: 43 | H18: 43 | I18: 43 | J18: 43 | K18: 43 | L18: 43 | M18: 43 | N18: 43 | O18: 43 | P18: 43 | Q18: 43 | R18: 43 | S18: 43 | T18: 43
B19: 비제조 | C19: 업체수 | D19: 102 | E19: 102 | F19: 105 | G19: 105 | H19: 105 | I19: 105 | J19: 105 | K19: 105 | L19: 105 | M19: 105 | N19: 105 | O19: 105 | P19: 105 | Q19: 105 | R19: 107 | S19: 108 | T19: 109
B20: 계 | C20: 업체수 | D20: =D9+D10+D11+D12+D13+D14+D15+D16+D17+D18+D19 -> 942 | E20: =E9+E10+E11+E12+E13+E14+E15+E16+E17+E18+E19 -> 942 | F20: =F9+F10+F11+F12+F13+F14+F15+F16+F17+F18+F19 -> 953 | G20: =G9+G10+G11+G12+G13+G14+G15+G16+G17+G18+G19 -> 953 | H20: =H9+H10+H11+H12+H13+H14+H15+H16+H17+H18+H19 -> 953 | I20: =I9+I10+I11+I12+I13+I14+I15+I16+I17+I18+I19 -> 961 | J20: =J9+J10+J11+J12+J13+J14+J15+J16+J17+J18+J19 -> 961 | K20: =K9+K10+K11+K12+K13+K14+K15+K16+K17+K18+K19 -> 966 | ... S20: =S9+S10+S11+S12+S13+S14+S15+S16+S17+S18+S19 -> 1014 | T20: =SUM(T9:T19) -> 1020
C21: 증감률(전월대비) | E21: =(E20-D20)/D20 -> 0 | F21: =(F20-E20)/E20 -> 0.011677282 | G21: =(G20-F20)/F20 -> 0 | H21: =(H20-G20)/G20 -> 0 | I21: =(I20-H20)/H20 -> 0.0083945435 | J21: =(J20-I20)/I20 -> 0 | K21: =(K20-J20)/J20 -> 0.0052029136 | L21: =(L20-K20)/K20 -> 0 | ... T21: =(T20-S20)/S20 -> 0.0059171598
A22: 업종별 가동업체수(개사, %) | B22: 음식료 | C22: 업체수 | D22: 13 | E22: 13 | F22: 13 | G22: 13 | H22: 13 | I22: 13 | J22: 13 | K22: 13 | L22: 13 | M22: 13 | N22: 13 | O22: 13 | P22: 13 | Q22: 13 | R22: 13 | S22: 13 | T22: 13
B23: 섬유의복 | C23: 업체수 | D23: 40 | E23: 40 | F23: 40 | G23: 40 | H23: 40 | I23: 40 | J23: 40 | K23: 40 | L23: 40 | M23: 40 | N23: 40 | O23: 40 | P23: 40 | Q23: 41 | R23: 41 | S23: 42 | T23: 45
B24: 목재종이 | C24: 업체수 | D24: 27 | E24: 27 | F24: 27 | G24: 27 | H24: 27 | I24: 27 | J24: 27 | K24: 27 | L24: 27 | M24: 27 | N24: 27 | O24: 27 | P24: 27 | Q24: 27 | R24: 27 | S24: 28 | T24: 28
B25: 석유화학 | C25: 업체수 | D25: 64 | E25: 64 | F25: 64 | G25: 64 | H25: 64 | I25: 64 | J25: 64 | K25: 64 | L25: 64 | M25: 64 | N25: 64 | O25: 64 | P25: 65 | Q25: 67 | R25: 67 | S25: 67 | T25: 70
B26: 비금속 | C26: 업체수 | D26: 3 | E26: 3 | F26: 3 | G26: 3 | H26: 3 | I26: 3 | J26: 3 | K26: 3 | L26: 3 | M26: 3 | N26: 3 | O26: 3 | P26: 4 | Q26: 4 | R26: 4 | S26: 4 | T26: 4
B27: 철강 | C27: 업체수 | D27: 9 | E27: 9 | F27: 9 | G27: 9 | H27: 9 | I27: 9 | J27: 9 | K27: 9 | L27: 9 | M27: 9 | N27: 9 | O27: 9 | P27: 9 | Q27: 9 | R27: 9 | S27: 9 | T27: 9
B28: 기계 | C28: 업체수 | D28: 285 | E28: 285 | F28: 289 | G28: 289 | H28: 289 | I28: 289 | J28: 289 | K28: 291 | L28: 291 | M28: 291 | N28: 294 | O28: 295 | P28: 296 | Q28: 297 | R28: 298 | S28: 298 | T28: 299
B29: 전기전자 | C29: 업체수 | D29: 339 | E29: 339 | F29: 343 | G29: 343 | H29: 343 | I29: 351 | J29: 351 | K29: 354 | L29: 354 | M29: 354 | N29: 360 | O29: 362 | P29: 365 | Q29: 368 | R29: 376 | S29: 379 | T29: 379
B30: 운송장비 | C30: 업체수 | D30: 17 | E30: 17 | F30: 17 | G30: 17 | H30: 17 | I30: 17 | J30: 17 | K30: 17 | L30: 17 | M30: 17 | N30: 17 | O30: 17 | P30: 17 | Q30: 17 | R30: 17 | S30: 17 | T30: 16
B31: 기타 | C31: 업체수 | D31: 43 | E31: 43 | F31: 43 | G31: 43 | H31: 43 | I31: 43 | J31: 43 | K31: 43 | L31: 43 | M31: 43 | N31: 43 | O31: 43 | P31: 43 | Q31: 43 | R31: 43 | S31: 43 | T31: 40
B32: 비제조 | C32: 업체수 | D32: 101 | E32: 101 | F32: 104 | G32: 104 | H32: 104 | I32: 104 | J32: 104 | K32: 104 | L32: 104 | M32: 104 | N32: 104 | O32: 104 | P32: 104 | Q32: 104 | R32: 105 | S32: 105 | T32: 102
B33: 계 | C33: 업체수 | D33: =D22+D23+D24+D25+D26+D27+D28+D29+D30+D31+D32 -> 941 | E33: =E22+E23+E24+E25+E26+E27+E28+E29+E30+E31+E32 -> 941 | F33: =F22+F23+F24+F25+F26+F27+F28+F29+F30+F31+F32 -> 952 | G33: =G22+G23+G24+G25+G26+G27+G28+G29+G30+G31+G32 -> 952 | H33: =H22+H23+H24+H25+H26+H27+H28+H29+H30+H31+H32 -> 952 | I33: =I22+I23+I24+I25+I26+I27+I28+I29+I30+I31+I32 -> 960 | J33: =J22+J23+J24+J25+J26+J27+J28+J29+J30+J31+J32 -> 960 | K33: =K22+K23+K24+K25+K26+K27+K28+K29+K30+K31+K32 -> 965 | ... S33: =S22+S23+S24+S25+S26+S27+S28+S29+S30+S31+S32 -> 1005 | T33: =SUM(T22:T32) -> 1005
C34: 증감률(전월대비) | E34: =(E33-D33)/D33 -> 0 | F34: =(F33-E33)/E33 -> 0.011689692 | G34: =(G33-F33)/F33 -> 0 | H34: =(H33-G33)/G33 -> 0 | I34: =(I33-H33)/H33 -> 0.0084033613 | J34: =(J33-I33)/I33 -> 0 | K34: =(K33-J33)/J33 -> 0.0052083333 | L34: =(L33-K33)/K33 -> 0 | ... T34: =(T33-S33)/S33 -> 0
A35: 업종별 가동률(%) | B35: 음식료 | C35: 가동률 | D35: 76.216666 | E35: 61.519856 | F35: 74.343931 | G35: 73.336297 | H35: 74.94376 | I35: 76.802637 | J35: 52.526374 | K35: 46.115433 | L35: 68.797945 | M35: 80.361735 | N35: 82.919377 | O35: 74.524454 | P35: 70.979755 | Q35: 72.3 | R35: 76.37844 | S35: 69.836469 | T35: 70.4
B36: 섬유의복 | C36: 가동률 | D36: 67.634401 | E36: 48.163007 | F36: 64.27118 | G36: 54.674419 | H36: 53.651163 | I36: 49.426357 | J36: 46.27907 | K36: 76.205106 | L36: 71.514818 | M36: 66.82453 | N36: 63.363162 | O36: 75.335739 | P36: 66.781598 | Q36: 69.9 | R36: 80.219134 | S36: 69.807075 | T36: 68.1
A37: 가동률은 제조업 가동업체 대상 | B37: 목재종이 | C37: 가동률 | D37: 93.93903 | E37: 71.095198 | F37: 77.310616 | G37: 74.39045 | H37: 86.968582 | I37: 79.891555 | J37: 78.419619 | K37: 73.592979 | L37: 68.256945 | M37: 90.146922 | N37: 93.082789 | O37: 79.264675 | P37: 83.889616 | Q37: 76 | R37: 89.051995 | S37: 84.205128 | T37: 88.6
B38: 석유화학 | C38: 가동률 | D38: 82.742425 | E38: 75.78858 | F38: 73.47873 | G38: 74.951465 | H38: 75.259822 | I38: 80.430745 | J38: 79.136406 | K38: 88.37615 | L38: 81.171428 | M38: 77.957791 | N38: 73.805071 | O38: 76.892271 | P38: 85.063988 | Q38: 75.6 | R38: 77.396305 | S38: 74.484917 | T38: 69.6
B39: 비금속 | C39: 가동률 | D39: 20 | E39: 20 | F39: 20 | G39: 20 | H39: 20 | I39: 20 | J39: 20 | K39: 20 | L39: 20 | M39: 20 | N39: 20 | O39: 20 | P39: 20 | Q39: 20 | R39: 20 | S39: 20 | T39: 20
B40: 철강 | C40: 가동률 | D40: 84.775679 | E40: 76.846345 | F40: 80.018079 | G40: 79.383732 | H40: 80.969599 | I40: 80.018079 | J40: 79.383732 | K40: 80.018079 | L40: 80.018079 | M40: 80.018079 | N40: 80.018079 | O40: 80.018079 | P40: 80.018079 | Q40: 76.8 | R40: 76.846345 | S40: 80.018079 | T40: 73.7
B41: 기계 | C41: 가동률 | D41: 53.091089 | E41: 43.941984 | F41: 46.727024 | G41: 53.476404 | H41: 64.771926 | I41: 50.062129 | J41: 54.335622 | K41: 53.660592 | L41: 52.160523 | M41: 60.769463 | N41: 54.172596 | O41: 52.014023 | P41: 48.998242 | Q41: 56.1 | R41: 65.253767 | S41: 60.754157 | T41: 57.7
B42: 전기전자 | C42: 가동률 | D42: 74.402102 | E42: 73.63446 | F42: 74.317273 | G42: 77.651408 | H42: 79.42875 | I42: 78.866242 | J42: 78.383263 | K42: 79.213566 | L42: 79.992291 | M42: 77.507187 | N42: 77.714453 | O42: 77.451693 | P42: 74.299953 | Q42: 73.8 | R42: 75.094617 | S42: 73.920963 | T42: 74.8
B43: 운송장비 | C43: 가동률 | D43: 83.296475 | E43: 83.491609 | F43: 82.140413 | G43: 82.18147 | H43: 81.72973 | I43: 81.837017 | J43: 81.491713 | K43: 84.10221 | L43: 87.854077 | M43: 85.708155 | N43: 86.309013 | O43: 86.509299 | P43: 87.424893 | Q43: 88.1 | R43: 85.954089 | S43: 85.954089 | T43: 86.6
B44: 기타 | C44: 가동률 | D44: 52.007044 | E44: 45.524431 | F44: 49.829548 | G44: 56.427152 | H44: 53.012174 | I44: 51.727732 | J44: 52.224018 | K44: 48.115674 | L44: 54.206851 | M44: 54.120982 | N44: 53.907686 | O44: 56.89902 | P44: 48.423877 | Q44: 50.5 | R44: 53.220265 | S44: 52.415821 | T44: 52
B45: 전체 | C45: 가동률 | D45: 67.894089 | E45: 60.577833 | F45: 63.951538 | G45: 66.954951 | H45: 72.249616 | I45: 67.00758 | J45: 64.697739 | K45: 65.976285 | L45: 68.102865 | M45: 71.627507 | N45: 69.389003 | O45: 67.977325 | P45: 65.204827 | Q45: 68 | R45: 72.9622 | S45: 69.168895 | T45: 68.201
C46: 증감률(전월대비) | E46: =(E45-D45)/D45 -> -0.10775983 | F46: =(F45-E45)/E45 -> 0.055692069 | G46: =(G45-F45)/F45 -> 0.046963891 | H46: =(H45-G45)/G45 -> 0.079078019 | I46: =(I45-H45)/H45 -> -0.072554513 | J46: =(J45-I45)/I45 -> -0.034471338 | K46: =(K45-J45)/J45 -> 0.019761829 | L46: =(L45-K45)/K45 -> 0.032232485 | ... T46: =(T45-S45)/S45 -> -0.01399321
A47: 업종별 생산실적 (억원, %) | B47: 음식료 | C47: 생산액 | D47: 385.00363 | E47: 310.76363 | F47: 375.54363 | G47: 370.45363 | H47: 378.57363 | I47: 387.96363 | J47: 265.33363 | K47: 233.13363 | L47: 347.80363 | M47: 406.26363 | N47: 419.19363 | O47: 376.75363 | P47: 358.83363 | Q47: 361 | R47: 381.54363 | S47: 348.86363 | T47: 352
B48: 섬유의복 | C48: 생산액 | D48: 69.54 | E48: 49.52 | F48: 71.86 | G48: 70.53 | H48: 69.21 | I48: 63.76 | J48: 59.7 | K48: 142.0025 | L48: 133.2625 | M48: 124.5225 | N48: 118.0725 | O48: 140.3825 | P48: 124.4425 | Q48: 130 | R48: 156.8625 | S48: 136.5025 | T48: 133
A49: 제조업 가동업체 대상 | B49: 목재종이 | C49: 생산액 | D49: 78.115 | E49: 70.985 | F49: 73.735 | G49: 66.055 | H49: 76.815 | I49: 69.25 | J49: 71.95 | K49: 67.08 | L49: 58.23 | M49: 77.31 | N49: 85.45 | O49: 74.81 | P49: 76.91 | Q49: 67 | R49: 79.47 | S49: 73.89 | T49: 77
B50: 석유화학 | C50: 생산액 | D50: 215.36831 | E50: 197.26831 | F50: 149.27031 | G50: 139.64031 | H50: 141.81031 | I50: 150.66097 | J50: 147.51631 | K50: 228.74897 | L50: 218.99697 | M50: 205.43097 | N50: 191.00431 | O50: 199.37831 | P50: 184.13431 | Q50: 179 | R50: 194.15764 | S50: 180.55564 | T50: 164
B51: 비금속 | C51: 생산액 | D51: 0.1 | E51: 0.1 | F51: 0.1 | G51: 0.1 | H51: 0.1 | I51: 0.1 | J51: 0.1 | K51: 0.1 | L51: 0.1 | M51: 0.1 | N51: 0.1 | O51: 0.1 | P51: 0.1 | Q51: 0 | R51: 0.1 | S51: 0.1 | T51: 0
B52: 철강 | C52: 생산액 | D52: 2.67285 | E52: 2.42285 | F52: 2.52285 | G52: 2.50285 | H52: 2.55285 | I52: 2.52285 | J52: 2.50285 | K52: 2.52285 | L52: 2.52285 | M52: 2.52285 | N52: 2.52285 | O52: 2.52285 | P52: 2.52285 | Q52: 2 | R52: 2.42285 | S52: 2.52285 | T52: 2
B53: 기계 | C53: 생산액 | D53: 674.50548 | E53: 564.04548 | F53: 596.15762 | G53: 697.88833 | H53: 832.19048 | I53: 632.43548 | J53: 686.28905 | K53: 675.40619 | L53: 661.5719 | M53: 794.4169 | N53: 701.04048 | O53: 663.93548 | P53: 625.68119 | Q53: 593 | R53: 703.98405 | S53: 657.39976 | T53: 625
B54: 전기전자 | C54: 생산액 | D54: 914.46979 | E54: 898.09556 | F54: 907.76133 | G54: 949.18556 | H54: 975.27979 | I54: 970.39556 | J54: 967.96017 | K54: 985.34286 | L54: 995.84171 | M54: 934.2494 | N54: 936.94979 | O54: 932.87748 | P54: 857.1944 | Q54: 853 | R54: 871.61902 | S54: 849.86517 | T54: 859
B55: 운송장비 | C55: 생산액 | D55: 64.03 | E55: 64.18 | F55: 60.02 | G55: 60.05 | H55: 60.48 | I55: 59.25 | J55: 59 | K55: 60.89 | L55: 61.41 | M55: 59.91 | N55: 60.33 | O55: 60.47 | P55: 61.11 | Q55: 61 | R55: 59.91 | S55: 59.91 | T55: 60
B56: 기타 | C56: 생산액 | D56: 20.082 | E56: 17.292 | F56: 19.002 | G56: 21.58 | H56: 20.38 | I56: 19.85 | J56: 20.03 | K56: 17.67 | L56: 19.56 | M56: 20.238 | N56: 19.948 | O56: 20.668 | P56: 17.328 | Q56: 19 | R56: 19.518 | S56: 18.898 | T56: 19
B57: 계 | C57: 생산액 | D57: =D47+D48+D49+D50+D51+D52+D53+D54+D55+D56 -> 2423.8871 | E57: =E47+E48+E49+E50+E51+E52+E53+E54+E55+E56 -> 2174.6728 | F57: =F47+F48+F49+F50+F51+F52+F53+F54+F55+F56 -> 2255.9727 | G57: =G47+G48+G49+G50+G51+G52+G53+G54+G55+G56 -> 2377.9857 | H57: =H47+H48+H49+H50+H51+H52+H53+H54+H55+H56 -> 2557.3921 | I57: =I47+I48+I49+I50+I51+I52+I53+I54+I55+I56 -> 2356.1885 | J57: =J47+J48+J49+J50+J51+J52+J53+J54+J55+J56 -> 2280.382 | K57: =K47+K48+K49+K50+K51+K52+K53+K54+K55+K56 -> 2412.897 | ... S57: =S47+S48+S49+S50+S51+S52+S53+S54+S55+S56 -> 2328.5076 | T57: 2292.62
C58: 증감률(전월대비) | E58: =(E57-D57)/D57 -> -0.10281594 | F58: =(F57-E57)/E57 -> 0.037384894 | G58: =(G57-F57)/F57 -> 0.054084406 | H58: =(H57-G57)/G57 -> 0.075444682 | I58: =(I57-H57)/H57 -> -0.078675291 | J58: =(J57-I57)/I57 -> -0.032173351 | K58: =(K57-J57)/J57 -> 0.058110879 | L58: =(L57-K57)/K57 -> 0.03580864 | ... T58: =(T57-S57)/S57 -> -0.015412257
A59: 업종별 수출실적 (백만달러, %) | B59: 음식료 | C59: 수출액 | D59: 0.979 | E59: 1.868 | F59: 1.676 | G59: 1.199 | H59: 1.406 | I59: 1.061 | J59: 1.946 | K59: 1.382 | L59: 2.841 | M59: 2.255 | N59: 2.281 | O59: 1.554 | P59: 1.107 | Q59: 1 | R59: 1.133 | S59: 1.16 | T59: 1
B60: 섬유의복 | C60: 수출액 | D60: 2.047 | E60: 1.792 | F60: 1.84 | G60: 1.793 | H60: 0.237 | I60: 0.303 | J60: 0.521 | K60: 1.64 | L60: 0.157 | M60: 0.253 | N60: 0.252 | O60: 0.252 | P60: 0.252 | Q60: 0 | R60: 0.247 | S60: 0.245 | T60: 0
A61: 제조업 가동업체 대상 | B61: 목재종이 | C61: 수출액 | D61: 2.121 | E61: 2.739 | F61: 3.436 | G61: 2.427 | H61: 3.116 | I61: 2.939 | J61: 2.48 | K61: 2.623 | L61: 2.057 | M61: 3.614 | N61: 3.479 | O61: 2.508 | P61: 2.79 | Q61: 2 | R61: 3.454 | S61: 3.203 | T61: 4
B62: 석유화학 | C62: 수출액 | D62: 0.544 | E62: 0.625 | F62: 0.727 | G62: 0.647 | H62: 0.751 | I62: 1.056 | J62: 0.907 | K62: 1.877 | L62: 1.73 | M62: 2.146 | N62: 1.811 | O62: 1.452 | P62: 1.251 | Q62: 1 | R62: 1.238 | S62: 1.081 | T62: 1
B63: 비금속 | C63: 수출액 | D63: 0 | E63: 0 | F63: 0 | G63: 0 | H63: 0 | I63: 0 | J63: 0 | K63: 0 | L63: 0 | M63: 0 | N63: 0 | O63: 0 | P63: 0 | Q63: 0 | R63: 0 | S63: 0 | T63: 0
B64: 철강 | C64: 수출액 | D64: 0 | E64: 0 | F64: 0 | G64: 0 | H64: 0 | I64: 0 | J64: 0 | K64: 0 | L64: 0 | M64: 0 | N64: 0 | O64: 0 | P64: 0 | Q64: 0 | R64: 0 | S64: 0 | T64: 0
B65: 기계 | C65: 수출액 | D65: 16.300459 | E65: 12.273459 | F65: 12.133459 | G65: 14.174459 | H65: 12.883459 | I65: 14.496459 | J65: 13.166459 | K65: 13.476459 | L65: 13.488459 | M65: 13.529459 | N65: 14.102459 | O65: 13.783459 | P65: 12.601459 | Q65: 13 | R65: 12.379459 | S65: 12.247459 | T65: 13
B66: 전기전자 | C66: 수출액 | D66: 10.711664 | E66: 9.8876642 | F66: 10.346664 | G66: 10.974664 | H66: 10.579664 | I66: 10.586664 | J66: 10.788664 | K66: 11.314664 | L66: 12.118664 | M66: 10.710664 | N66: 10.434664 | O66: 10.154664 | P66: 9.9676642 | Q66: 11 | R66: 11.173664 | S66: 10.140664 | T66: 10
B67: 운송장비 | C67: 수출액 | D67: 0.247 | E67: 1.543 | F67: 2.046 | G67: 2.191 | H67: 2.164 | I67: 1.963 | J67: 1.347 | K67: 1.347 | L67: 1.347 | M67: 1.347 | N67: 1.347 | O67: 1.347 | P67: 1.347 | Q67: 1 | R67: 1.347 | S67: 1.347 | T67: 1
B68: 기타 | C68: 수출액 | D68: 0.887 | E68: 0.612 | F68: 0.753 | G68: 0.907 | H68: 0.913 | I68: 0.871 | J68: 0.928 | K68: 0.652 | L68: 0.743 | M68: 0.857 | N68: 0.871 | O68: 0.669 | P68: 0.646 | Q68: 1 | R68: 0.794 | S68: 0.813 | T68: 1
B69: 계 | C69: 수출액 | D69: =D59+D60+D61+D62+D63+D64+D65+D66+D67+D68 -> 33.837123 | E69: =E59+E60+E61+E62+E63+E64+E65+E66+E67+E68 -> 31.340123 | F69: =F59+F60+F61+F62+F63+F64+F65+F66+F67+F68 -> 32.958123 | G69: =G59+G60+G61+G62+G63+G64+G65+G66+G67+G68 -> 34.313123 | H69: =H59+H60+H61+H62+H63+H64+H65+H66+H67+H68 -> 32.050123 | I69: =I59+I60+I61+I62+I63+I64+I65+I66+I67+I68 -> 33.276123 | J69: =J59+J60+J61+J62+J63+J64+J65+J66+J67+J68 -> 32.084123 | K69: =K59+K60+K61+K62+K63+K64+K65+K66+K67+K68 -> 34.312123 | ... S69: =S59+S60+S61+S62+S63+S64+S65+S66+S67+S68 -> 30.237123 | T69: 30.3711
C70: 증감률(전월대비) | E70: =(E69-D69)/D69 -> -0.073794689 | F70: =(F69-E69)/E69 -> 0.05162711 | G70: =(G69-F69)/F69 -> 0.041112778 | H70: =(H69-G69)/G69 -> -0.065951443 | I70: =(I69-H69)/H69 -> 0.038252583 | J70: =(J69-I69)/I69 -> -0.03582148 | K70: =(K69-J69)/J69 -> 0.069442446 | L70: =(L69-K69)/K69 -> 0.004954517 | ... T70: =(T69-S69)/S69 -> 0.0044308668
A71: 업종별 고용현황(명, %) | B71: 음식료 | C71: 고용인원 | D71: 417 | E71: 418 | F71: 410 | G71: 406 | H71: 406 | I71: 404 | J71: 406 | K71: 406 | L71: 396 | M71: 384 | N71: 384 | O71: 379 | P71: 348 | Q71: 346 | R71: 346 | S71: 346 | T71: 344
B72: 섬유의복 | C72: 고용인원 | D72: 3329 | E72: 3327 | F72: 3310 | G72: 3304 | H72: 3465 | I72: 3477 | J72: 3463 | K72: 3444 | L72: 3460 | M72: 3450 | N72: 3449 | O72: 3446 | P72: 3365 | Q72: 3363 | R72: 3353 | S72: 3355 | T72: 3341
B73: 목재종이 | C73: 고용인원 | D73: 468 | E73: 471 | F73: 469 | G73: 469 | H73: 462 | I73: 463 | J73: 465 | K73: 475 | L73: 472 | M73: 482 | N73: 466 | O73: 466 | P73: 467 | Q73: 464 | R73: 463 | S73: 464 | T73: 463
B74: 석유화학 | C74: 고용인원 | D74: 758 | E74: 756 | F74: 754 | G74: 776 | H74: 776 | I74: 767 | J74: 769 | K74: 764 | L74: 766 | M74: 758 | N74: 764 | O74: 764 | P74: 742 | Q74: 748 | R74: 747 | S74: 746 | T74: 725
B75: 비금속 | C75: 고용인원 | D75: 105 | E75: 2 | F75: 2 | G75: 2 | H75: 2 | I75: 2 | J75: 2 | K75: 2 | L75: 2 | M75: 2 | N75: 2 | O75: 2 | P75: 2 | Q75: 2 | R75: 2 | S75: 2 | T75: 2
B76: 철강 | C76: 고용인원 | D76: 2 | E76: 105 | F76: 105 | G76: 105 | H76: 105 | I76: 105 | J76: 105 | K76: 105 | L76: 105 | M76: 105 | N76: 105 | O76: 105 | P76: 105 | Q76: 105 | R76: 105 | S76: 105 | T76: 105
B77: 기계 | C77: 고용인원 | D77: 2629 | E77: 2641 | F77: 2673 | G77: 2662 | H77: 2646 | I77: 2642 | J77: 2727 | K77: 2733 | L77: 2741 | M77: 2727 | N77: 2748 | O77: 2775 | P77: 2777 | Q77: 2740 | R77: 2709 | S77: 2697 | T77: 2667
B78: 전기전자 | C78: 고용인원 | D78: 4568 | E78: 4535 | F78: 4670 | G78: 4709 | H78: 4846 | I78: 4897 | J78: 4768 | K78: 4682 | L78: 4719 | M78: 4672 | N78: 4694 | O78: 4734 | P78: 4700 | Q78: 4693 | R78: 4677 | S78: 4648 | T78: 4612
B79: 운송장비 | C79: 고용인원 | D79: 230 | E79: 225 | F79: 225 | G79: 225 | H79: 223 | I79: 223 | J79: 223 | K79: 223 | L79: 229 | M79: 229 | N79: 228 | O79: 228 | P79: 228 | Q79: 230 | R79: 230 | S79: 229 | T79: 229
B80: 기타 | C80: 고용인원 | D80: 207 | E80: 207 | F80: 204 | G80: 204 | H80: 201 | I80: 201 | J80: 201 | K80: 197 | L80: 196 | M80: 196 | N80: 196 | O80: 196 | P80: 183 | Q80: 184 | R80: 184 | S80: 183 | T80: 182
B81: 비제조 | C81: 고용인원 | D81: 826 | E81: 827 | F81: 828 | G81: 835 | H81: 844 | I81: 842 | J81: 842 | K81: 842 | L81: 839 | M81: 839 | N81: 842 | O81: 842 | P81: 836 | Q81: 836 | R81: 835 | S81: 836 | T81: 849
B82: 계 | C82: 수출 | D82: =D71+D72+D73+D74+D75+D76+D77+D78+D79+D80+D81 -> 13539 | E82: =E71+E72+E73+E74+E75+E76+E77+E78+E79+E80+E81 -> 13514 | F82: =F71+F72+F73+F74+F75+F76+F77+F78+F79+F80+F81 -> 13650 | G82: =G71+G72+G73+G74+G75+G76+G77+G78+G79+G80+G81 -> 13697 | H82: =H71+H72+H73+H74+H75+H76+H77+H78+H79+H80+H81 -> 13976 | I82: =I71+I72+I73+I74+I75+I76+I77+I78+I79+I80+I81 -> 14023 | J82: =J71+J72+J73+J74+J75+J76+J77+J78+J79+J80+J81 -> 13971 | K82: =K71+K72+K73+K74+K75+K76+K77+K78+K79+K80+K81 -> 13873 | ... S82: =S71+S72+S73+S74+S75+S76+S77+S78+S79+S80+S81 -> 13611 | T82: =SUM(T71:T81) -> 13519
C83: 증감률(전월대비) | E83: =(E82-D82)/D82 -> -0.0018465175 | F83: =(F82-E82)/E82 -> 0.010063638 | G83: =(G82-F82)/F82 -> 0.0034432234 | H83: =(H82-G82)/G82 -> 0.020369424 | I83: =(I82-H82)/H82 -> 0.0033629078 | J83: =(J82-I82)/I82 -> -0.0037081937 | K83: =(K82-J82)/J82 -> -0.0070145301 | L83: =(L82-K82)/K82 -> 0.003748288 | ... T83: =(T82-S82)/S82 -> -0.0067592389

Sheet 주안
A1: 주안국가 산업단지 현황(2019.01~)
A3: 출처 : www.kicox.or.kr-정보공개-산업단지정보
A4: 구 분 | D4: 2019.1 | E4: 2 | F4: 3 | G4: 4 | H4: 5 | I4: 6 | J4: 7 | K4: 8 | L4: 9 | M4: 10 | N4: 11 | O4: 12 | P4: 2020.1 | Q4: 2 | R4: 3 | S4: 4 | T4: 5
A5: 입주업체수 (개사, %) | C5: 업체수 | D5: 1000 | E5: 1054 | F5: 1099 | G5: 1112 | H5: 1111 | I5: 1113 | J5: 1104 | K5: 1089 | L5: 1095 | M5: 1090 | N5: 1081 | O5: 1075 | P5: 1074 | Q5: 1078 | R5: 1080 | S5: 1076 | T5: 1080
C6: 증감률(전월대비) | E6: =(E5-D5)/D5 -> 0.054 | F6: =(F5-E5)/E5 -> 0.042694497 | G6: =(G5-F5)/F5 -> 0.011828935 | H6: =(H5-G5)/G5 -> -0.00089928058 | I6: =(I5-H5)/H5 -> 0.00180018 | J6: =(J5-I5)/I5 -> -0.0080862534 | K6: =(K5-J5)/J5 -> -0.013586957 | L6: =(L5-K5)/K5 -> 0.0055096419 | ... T6: =(T5-S5)/S5 -> 0.0037174721
A7: 임차업체수 (개사, %) | C7: 업체수 | D7: 306 | E7: 327 | F7: 333 | G7: 334 | H7: 339 | I7: 340 | J7: 340 | K7: 329 | L7: 336 | M7: 332 | N7: 324 | O7: 319 | P7: 320 | Q7: 321 | R7: 323 | S7: 323 | T7: 327
C8: 증감률(전월대비) | E8: =(E7-D7)/D7 -> 0.068627451 | F8: =(F7-E7)/E7 -> 0.018348624 | G8: =(G7-F7)/F7 -> 0.003003003 | H8: =(H7-G7)/G7 -> 0.01497006 | I8: =(I7-H7)/H7 -> 0.0029498525 | J8: =(J7-I7)/I7 -> 0 | K8: =(K7-J7)/J7 -> -0.032352941 | L8: =(L7-K7)/K7 -> 0.021276596 | ... T8: =(T7-S7)/S7 -> 0.012383901
A9: 업종별 입주업체수(개사, %) | B9: 음식료 | C9: 업체수 | D9: 22 | E9: 23 | F9: 24 | G9: 25 | H9: 26 | I9: 26 | J9: 22 | K9: 18 | L9: 19 | M9: 19 | N9: 19 | O9: 20 | P9: 20 | Q9: 20 | R9: 21 | S9: 20 | T9: 21
B10: 섬유의복 | C10: 업체수 | D10: 20 | E10: 20 | F10: 20 | G10: 20 | H10: 20 | I10: 20 | J10: 19 | K10: 19 | L10: 19 | M10: 18 | N10: 18 | O10: 18 | P10: 18 | Q10: 18 | R10: 17 | S10: 18 | T10: 19
B11: 목재종이 | C11: 업체수 | D11: 26 | E11: 30 | F11: 32 | G11: 32 | H11: 31 | I11: 31 | J11: 31 | K11: 30 | L11: 31 | M11: 32 | N11: 31 | O11: 31 | P11: 29 | Q11: 29 | R11: 29 | S11: 29 | T11: 29
B12: 석유화학 | C12: 업체수 | D12: 88 | E12: 91 | F12: 95 | G12: 96 | H12: 99 | I12: 100 | J12: 97 | K12: 98 | L12: 99 | M12: 97 | N12: 100 | O12: 101 | P12: 101 | Q12: 100 | R12: 99 | S12: 98 | T12: 100
B13: 비금속 | C13: 업체수 | D13: 0 | E13: 0 | F13: 3 | G13: 3 | H13: 3 | I13: 3 | J13: 3 | K13: 3 | L13: 3 | M13: 3 | N13: 3 | O13: 3 | P13: 3 | Q13: 3 | R13: 3 | S13: 3 | T13: 3
B14: 철강 | C14: 업체수 | D14: 12 | E14: 12 | F14: 12 | G14: 13 | H14: 13 | I14: 13 | J14: 13 | K14: 13 | L14: 13 | M14: 13 | N14: 12 | O14: 12 | P14: 12 | Q14: 12 | R14: 12 | S14: 11 | T14: 11
B15: 기계 | C15: 업체수 | D15: 336 | E15: 355 | F15: 367 | G15: 368 | H15: 361 | I15: 360 | J15: 360 | K15: 356 | L15: 358 | M15: 356 | N15: 351 | O15: 347 | P15: 348 | Q15: 350 | R15: 348 | S15: 351 | T15: 351
B16: 전기전자 | C16: 업체수 | D16: 318 | E16: 334 | F16: 349 | G16: 350 | H16: 352 | I16: 353 | J16: 351 | K16: 343 | L16: 342 | M16: 338 | N16: 333 | O16: 327 | P16: 325 | Q16: 325 | R16: 323 | S16: 322 | T16: 324
B17: 운송장비 | C17: 업체수 | D17: 24 | E17: 27 | F17: 27 | G17: 27 | H17: 27 | I17: 27 | J17: 27 | K17: 27 | L17: 27 | M17: 27 | N17: 27 | O17: 28 | P17: 28 | Q17: 28 | R17: 28 | S17: 28 | T17: 28
B18: 기타 | C18: 업체수 | D18: 53 | E18: 55 | F18: 54 | G18: 54 | H18: 53 | I18: 53 | J18: 53 | K18: 54 | L18: 54 | M18: 54 | N18: 53 | O18: 50 | P18: 51 | Q18: 51 | R18: 52 | S18: 51 | T18: 50
B19: 비제조 | C19: 업체수 | D19: 101 | E19: 107 | F19: 116 | G19: 124 | H19: 126 | I19: 127 | J19: 128 | K19: 128 | L19: 130 | M19: 133 | N19: 134 | O19: 138 | P19: 139 | Q19: 142 | R19: 148 | S19: 145 | T19: 144
B20: 계 | C20: 업체수 | D20: =D9+D10+D11+D12+D13+D14+D15+D16+D17+D18+D19 -> 1000 | E20: =E9+E10+E11+E12+E13+E14+E15+E16+E17+E18+E19 -> 1054 | F20: =F9+F10+F11+F12+F13+F14+F15+F16+F17+F18+F19 -> 1099 | G20: =G9+G10+G11+G12+G13+G14+G15+G16+G17+G18+G19 -> 1112 | H20: =H9+H10+H11+H12+H13+H14+H15+H16+H17+H18+H19 -> 1111 | I20: =I9+I10+I11+I12+I13+I14+I15+I16+I17+I18+I19 -> 1113 | J20: =J9+J10+J11+J12+J13+J14+J15+J16+J17+J18+J19 -> 1104 | K20: =K9+K10+K11+K12+K13+K14+K15+K16+K17+K18+K19 -> 1089 | ... S20: =S9+S10+S11+S12+S13+S14+S15+S16+S17+S18+S19 -> 1076 | T20: =SUM(T9:T19) -> 1080
C21: 증감률(전월대비) | E21: =(E20-D20)/D20 -> 0.054 | F21: =(F20-E20)/E20 -> 0.042694497 | G21: =(G20-F20)/F20 -> 0.011828935 | H21: =(H20-G20)/G20 -> -0.00089928058 | I21: =(I20-H20)/H20 -> 0.00180018 | J21: =(J20-I20)/I20 -> -0.0080862534 | K21: =(K20-J20)/J20 -> -0.013586957 | L21: =(L20-K20)/K20 -> 0.0055096419 | ... T21: =(T20-S20)/S20 -> 0.0037174721
A22: 업종별 가동업체수(개사, %) | B22: 음식료 | C22: 업체수 | D22: 22 | E22: 23 | F22: 24 | G22: 25 | H22: 26 | I22: 26 | J22: 22 | K22: 18 | L22: 19 | M22: 19 | N22: 19 | O22: 20 | P22: 20 | Q22: 20 | R22: 21 | S22: 20 | T22: 21
B23: 섬유의복 | C23: 업체수 | D23: 20 | E23: 20 | F23: 20 | G23: 20 | H23: 20 | I23: 20 | J23: 19 | K23: 19 | L23: 19 | M23: 18 | N23: 18 | O23: 18 | P23: 18 | Q23: 18 | R23: 17 | S23: 18 | T23: 19
B24: 목재종이 | C24: 업체수 | D24: 26 | E24: 30 | F24: 32 | G24: 32 | H24: 31 | I24: 31 | J24: 31 | K24: 30 | L24: 31 | M24: 32 | N24: 31 | O24: 31 | P24: 29 | Q24: 29 | R24: 29 | S24: 29 | T24: 29
B25: 석유화학 | C25: 업체수 | D25: 88 | E25: 91 | F25: 95 | G25: 96 | H25: 99 | I25: 100 | J25: 97 | K25: 98 | L25: 99 | M25: 97 | N25: 100 | O25: 101 | P25: 101 | Q25: 100 | R25: 99 | S25: 98 | T25: 100
B26: 비금속 | C26: 업체수 | D26: 0 | E26: 0 | F26: 3 | G26: 3 | H26: 3 | I26: 3 | J26: 3 | K26: 3 | L26: 3 | M26: 3 | N26: 3 | O26: 3 | P26: 3 | Q26: 3 | R26: 3 | S26: 3 | T26: 3
B27: 철강 | C27: 업체수 | D27: 12 | E27: 12 | F27: 12 | G27: 13 | H27: 13 | I27: 13 | J27: 13 | K27: 13 | L27: 13 | M27: 13 | N27: 12 | O27: 12 | P27: 12 | Q27: 12 | R27: 12 | S27: 11 | T27: 11
B28: 기계 | C28: 업체수 | D28: 336 | E28: 355 | F28: 367 | G28: 368 | H28: 361 | I28: 360 | J28: 360 | K28: 356 | L28: 358 | M28: 356 | N28: 351 | O28: 347 | P28: 348 | Q28: 350 | R28: 348 | S28: 351 | T28: 351
B29: 전기전자 | C29: 업체수 | D29: 318 | E29: 334 | F29: 349 | G29: 348 | H29: 352 | I29: 353 | J29: 351 | K29: 343 | L29: 342 | M29: 338 | N29: 333 | O29: 327 | P29: 325 | Q29: 325 | R29: 323 | S29: 322 | T29: 324
B30: 운송장비 | C30: 업체수 | D30: 24 | E30: 27 | F30: 27 | G30: 27 | H30: 27 | I30: 27 | J30: 27 | K30: 27 | L30: 27 | M30: 27 | N30: 27 | O30: 28 | P30: 28 | Q30: 28 | R30: 28 | S30: 28 | T30: 28
B31: 기타 | C31: 업체수 | D31: 53 | E31: 55 | F31: 54 | G31: 54 | H31: 53 | I31: 53 | J31: 53 | K31: 54 | L31: 54 | M31: 54 | N31: 53 | O31: 50 | P31: 51 | Q31: 51 | R31: 52 | S31: 51 | T31: 50
B32: 비제조 | C32: 업체수 | D32: 101 | E32: 107 | F32: 116 | G32: 124 | H32: 126 | I32: 127 | J32: 128 | K32: 128 | L32: 130 | M32: 133 | N32: 134 | O32: 138 | P32: 139 | Q32: 142 | R32: 148 | S32: 145 | T32: 144
B33: 계 | C33: 업체수 | D33: =D22+D23+D24+D25+D26+D27+D28+D29+D30+D31+D32 -> 1000 | E33: =E22+E23+E24+E25+E26+E27+E28+E29+E30+E31+E32 -> 1054 | F33: =F22+F23+F24+F25+F26+F27+F28+F29+F30+F31+F32 -> 1099 | G33: =G22+G23+G24+G25+G26+G27+G28+G29+G30+G31+G32 -> 1110 | H33: =H22+H23+H24+H25+H26+H27+H28+H29+H30+H31+H32 -> 1111 | I33: =I22+I23+I24+I25+I26+I27+I28+I29+I30+I31+I32 -> 1113 | J33: =J22+J23+J24+J25+J26+J27+J28+J29+J30+J31+J32 -> 1104 | K33: =K22+K23+K24+K25+K26+K27+K28+K29+K30+K31+K32 -> 1089 | ... S33: =S22+S23+S24+S25+S26+S27+S28+S29+S30+S31+S32 -> 1076 | T33: =SUM(T22:T32) -> 1080
C34: 증감률(전월대비) | E34: =(E33-D33)/D33 -> 0.054 | F34: =(F33-E33)/E33 -> 0.042694497 | G34: =(G33-F33)/F33 -> 0.010009099 | H34: =(H33-G33)/G33 -> 0.0009009009 | I34: =(I33-H33)/H33 -> 0.00180018 | J34: =(J33-I33)/I33 -> -0.0080862534 | K34: =(K33-J33)/J33 -> -0.013586957 | L34: =(L33-K33)/K33 -> 0.0055096419 | ... T34: =(T33-S33)/S33 -> 0.0037174721
A35: 업종별 가동률(%) | B35: 음식료 | C35: 가동률 | D35: 91.071429 | E35: 79.6875 | F35: 93.636364 | G35: 92.025989 | H35: 92.385787 | I35: 90.784983 | J35: 91.094987 | K35: 90.28777 | L35: 98.240469 | M35: 96.430696 | N35: 96.298581 | O35: 96.398559 | P35: 70.979755 | Q35: 92.8 | R35: 77.8697 | S35: 93.485005 | T35: 77.662875
B36: 섬유의복 | C36: 가동률 | D36: 89.856922 | E36: 87.829846 | F36: 89.60646 | G36: 90.803804 | H36: 90.816235 | I36: 88.619571 | J36: 88.640636 | K36: 90.552945 | L36: 90.926924 | M36: 90.91539 | N36: 90.10003 | O36: 87.830253 | P36: 66.781598 | Q36: 80.1 | R36: 85.147118 | S36: 81.601481 | T36: 84.453782
A37: 가동률은 제조업 가동업체 대상 | B37: 목재종이 | C37: 가동률 | D37: 81.640075 | E37: 78.296358 | F37: 73.947822 | G37: 73.895502 | H37: 75.963373 | I37: 76.285463 | J37: 79 | K37: 81.210368 | L37: 81.530079 | M37: 87.094862 | N37: 89.13562 | O37: 90.50389 | P37: 83.889616 | Q37: 90.7 | R37: 89.896333 | S37: 94.512195 | T37: 94.644127
B38: 석유화학 | C38: 가동률 | D38: 62.919258 | E38: 62.58633 | F38: 63.465809 | G38: 63.511328 | H38: 63.779338 | I38: 63.626938 | J38: 64.591625 | K38: 60.847917 | L38: 61.327657 | M38: 62.403022 | N38: 62.683503 | O38: 64.26229 | P38: 85.063988 | Q38: 80.2 | R38: 78.664196 | S38: 78.754329 | T38: 76.270479
B39: 비금속 | C39: 가동률 | F39: 100 | G39: 100 | H39: 100 | I39: 100 | J39: 100 | K39: 100 | L39: 100 | M39: 100 | N39: 100 | O39: 100 | P39: 20 | Q39: 100 | R39: 100 | S39: 100 | T39: 100
B40: 철강 | C40: 가동률 | D40: 72.376749 | E40: 65.78868 | F40: 88.732875 | G40: 82.15238 | H40: 87.241133 | I40: 81.382263 | J40: 90.561996 | K40: 56.149992 | L40: 57.742195 | M40: 58.092844 | N40: 49.970197 | O40: 58.971725 | P40: 80.018079 | Q40: 55.8 | R40: 57.865084 | S40: 66.924685 | T40: 67.301814
B41: 기계 | C41: 가동률 | D41: 86.947349 | E41: 74.458802 | F41: 81.792065 | G41: 73.645395 | H41: 71.746331 | I41: 71.719141 | J41: 72.809011 | K41: 69.346479 | L41: 73.687158 | M41: 71.603417 | N41: 68.960166 | O41: 70.660411 | P41: 48.998242 | Q41: 55.5 | R41: 63.262955 | S41: 59.391468 | T41: 57.103419
B42: 전기전자 | C42: 가동률 | D42: 70.625183 | E42: 61.313384 | F42: 74.467142 | G42: 78.445559 | H42: 72.363588 | I42: 73.036273 | J42: 74.925357 | K42: 76.901114 | L42: 79.740681 | M42: 87.340759 | N42: 87.187454 | O42: 83.557729 | P42: 74.299953 | Q42: 82.3 | R42: 82.33046 | S42: 80.313193 | T42: 77.193313
B43: 운송장비 | C43: 가동률 | D43: 98.427986 | E43: 67.811406 | F43: 98.45869 | G43: 98.616469 | H43: 98.522341 | I43: 97.841747 | J43: 98.544229 | K43: 86.974586 | L43: 97.370094 | M43: 97.632825 | N43: 97.983279 | O43: 95.781213 | P43: 87.424893 | Q43: 94.5 | R43: 96.126248 | S43: 91.311969 | T43: 66.233276
B44: 기타 | C44: 가동률 | D44: 72.244731 | E44: 72.178774 | F44: 75.225353 | G44: 68.379972 | H44: 64.071713 | I44: 65.38396 | J44: 69.16732 | K44: 70.223934 | L44: 68.165241 | M44: 70.091005 | N44: 75.88534 | O44: 79.941375 | P44: 48.423877 | Q44: 87.5 | R44: 90.040936 | S44: 75.367114 | T44: 85.403668
B45: 전체 | C45: 가동률 | D45: 78.288533 | E45: 66.165924 | F45: 80.065216 | G45: 79.582283 | H45: 77.454948 | I45: 76.627774 | J45: 78.500257 | K45: 74.090221 | L45: 77.605043 | M45: 80.915976 | N45: 79.793042 | O45: 79.406916 | P45: 65.204827 | Q45: 76.8 | R45: 78.63204 | S45: 76.629716 | T45: 71.448666
C46: 증감률(전월대비) | E46: =(E45-D45)/D45 -> -0.15484528 | F46: =(F45-E45)/E45 -> 0.21006723 | G46: =(G45-F45)/F45 -> -0.0060317402 | H46: =(H45-G45)/G45 -> -0.02673127 | I46: =(I45-H45)/H45 -> -0.010679422 | J46: =(J45-I45)/I45 -> 0.024436088 | K46: =(K45-J45)/J45 -> -0.056178613 | L46: =(L45-K45)/K45 -> 0.047439754 | ... T46: =(T45-S45)/S45 -> -0.067611491
A47: 업종별 생산실적(억원, %) | B47: 음식료 | C47: 생산액 | D47: 4.08 | E47: 3.57 | F47: 5.15 | G47: 5.1933333 | H47: 4.8533333 | I47: 4.4333333 | J47: 4.6033333 | K47: 4.1833333 | L47: 5.5833333 | M47: 5.4033333 | N47: 5.2033333 | O47: 5.3533333 | P47: 6.69 | Q47: 9 | R47: 7.53 | S47: 9.04 | T47: 7.51
B48: 섬유의복 | C48: 생산액 | D48: 49.875833 | E48: 30.815833 | F48: 39.485833 | G48: 70.105833 | H48: 75.945833 | I48: 64.865833 | J48: 65.625833 | K48: 44.475833 | L48: 39.785833 | M48: 73.255833 | N48: 112.21583 | O48: 80.975833 | P48: 49.48 | Q48: 23 | R48: 42.25 | S48: 35.26 | T48: 42.21
A49: 제조업 가동업체 대상 | B49: 목재종이 | C49: 생산액 | D49: 62.341967 | E49: 52.741967 | F49: 49.161967 | G49: 49.453333 | H49: 53.093333 | I49: 54.943333 | J49: 64.253333 | K49: 73 | L49: 73.32 | M49: 88.14 | N49: 108.38 | O49: 124.47 | P49: 127.49 | Q49: 127 | R49: 116.2 | S49: 100.75 | T49: 119.81
B50: 석유화학 | C50: 생산액 | D50: 252.56 | E50: 251.62417 | F50: 250.0775 | G50: 256.55083 | H50: 255.75833 | I50: 251.09417 | J50: 257.24583 | K50: 241.46583 | L50: 239.86167 | M50: 245.45917 | N50: 247.58417 | O50: 262.90667 | P50: 578.99325 | Q50: 570 | R50: 563.07825 | S50: 565.90492 | T50: 541.34492
B51: 비금속 | C51: 생산액 | D51: 0 | E51: 0 | F51: 6.2783333 | G51: 6.2783333 | H51: 6.2783333 | I51: 6.2783333 | J51: 6.2783333 | K51: 6.28 | L51: 6.28 | M51: 6.28 | N51: 6.28 | O51: 6.28 | P51: 6.28 | Q51: 6 | R51: 6.28 | S51: 6.28 | T51: 6.28
B52: 철강 | C52: 생산액 | D52: 163.07743 | E52: 138.18743 | F52: 258.62743 | G52: 239.44743 | H52: 249.91743 | I52: 169.29743 | J52: 187.20743 | K52: 115.02743 | L52: 124.72743 | M52: 120.83743 | N52: 111.13743 | O52: 138.38743 | P52: 112.03743 | Q52: 122 | R52: 125.35743 | S52: 140.70743 | T52: 137.30743
B53: 기계 | C53: 생산액 | D53: 706.76167 | E53: 588.79167 | F53: 696.59167 | G53: 627.12 | H53: 608.66 | I53: 606.83 | J53: 589.52 | K53: 561.97 | L53: 605.34 | M53: 586.79 | N53: 564.37 | O53: 587.4 | P53: 510.98184 | Q53: 441 | R53: 514.46184 | S53: 491.82184 | T53: 472.53184
B54: 전기전자 | C54: 생산액 | D54: 1183.5092 | E54: 1013.4372 | F54: 1195.2132 | G54: 1079.8352 | H54: 978.84124 | I54: 993.57781 | J54: 1019.3152 | K54: 1059.4212 | L54: 1073.1459 | M54: 1167.1719 | N54: 1112.4899 | O54: 1292.2159 | P54: 966.39772 | Q54: 982 | R54: 1004.4657 | S54: 1007.4177 | T54: 962.60172
B55: 운송장비 | C55: 생산액 | D55: 622.37 | E55: 395.90333 | F55: 622.19 | G55: 639.13333 | H55: 652.96667 | I55: 589.03667 | J55: 593.66 | K55: 502.4 | L55: 510.44 | M55: 588.28333 | N55: 561 | O55: 543.14333 | P55: 518.07667 | Q55: 510 | R55: 538.97667 | S55: 486.19667 | T55: 327.72667
B56: 기타 | C56: 생산액 | D56: 46.004 | E56: 45.962 | F56: 47.902 | G56: 40.124 | H56: 37.596 | I56: 38.366 | J56: 40.586 | K56: 41.206 | L56: 39.998 | M56: 41.128 | N56: 44.528 | O56: 46.908 | P56: 56.876 | Q56: 56 | R56: 58.948 | S56: 47.834 | T56: 54.204
B57: 전체 | C57: 생산액 | D57: =D47+D48+D49+D50+D51+D52+D53+D54+D55+D56 -> 3090.5801 | E57: =E47+E48+E49+E50+E51+E52+E53+E54+E55+E56 -> 2521.0336 | F57: =F47+F48+F49+F50+F51+F52+F53+F54+F55+F56 -> 3170.678 | G57: =G47+G48+G49+G50+G51+G52+G53+G54+G55+G56 -> 3013.2417 | H57: =H47+H48+H49+H50+H51+H52+H53+H54+H55+H56 -> 2923.9105 | I57: =I47+I48+I49+I50+I51+I52+I53+I54+I55+I56 -> 2778.7229 | J57: =J47+J48+J49+J50+J51+J52+J53+J54+J55+J56 -> 2828.2953 | K57: =K47+K48+K49+K50+K51+K52+K53+K54+K55+K56 -> 2649.4297 | ... S57: =S47+S48+S49+S50+S51+S52+S53+S54+S55+S56 -> 2891.2126 | T57: 2671.5266
C58: 증감률(전월대비) | E58: =(E57-D57)/D57 -> -0.18428466 | F58: =(F57-E57)/E57 -> 0.25768967 | G58: =(G57-F57)/F57 -> -0.049653828 | H58: =(H57-G57)/G57 -> -0.0296462 | I58: =(I57-H57)/H57 -> -0.04965528 | J58: =(J57-I57)/I57 -> 0.017840004 | K58: =(K57-J57)/J57 -> -0.063241509 | L58: =(L57-K57)/K57 -> 0.026063156 | ... T58: =(T57-S57)/S57 -> -0.075984036
A59: 업종별 수출실적(백만달러, %) | B59: 음식료 | C59: 수출액 | D59: 0 | E59: 0 | F59: 0 | G59: 0 | H59: 0 | I59: 0 | J59: 0 | K59: 0 | L59: 0 | M59: 0 | N59: 0 | O59: 0 | P59: 0 | Q59: 0 | R59: 0 | S59: 0 | T59: 0
B60: 섬유의복 | C60: 수출액 | D60: 0.777 | E60: 0.315 | F60: 0.17 | G60: 0.099 | H60: 0.112 | I60: 0.121 | J60: 0.09 | K60: 0.105 | L60: 0.058 | M60: 0.072 | N60: 0.105 | O60: 0.141 | P60: 0.183 | Q60: 0 | R60: 0.173 | S60: 0.298 | T60: 0.224
A61: 제조업 가동업체 대상 | B61: 목재종이 | C61: 수출액 | D61: 0.07 | E61: 0.07 | F61: 0.11 | G61: 0.07 | H61: 0.08 | I61: 0.068 | J61: 0.068 | K61: 0.077 | L61: 0.104 | M61: 0.134 | N61: 0.134 | O61: 0.134 | P61: 0.134 | Q61: 0 | R61: 0.134 | S61: 0.134 | T61: 0.104
B62: 석유화학 | C62: 수출액 | D62: 0.705 | E62: 0.735 | F62: 0.056 | G62: 0.059 | H62: 0.039 | I62: 0.085 | J62: 0.624 | K62: 0.6 | L62: 0.88 | M62: 0.918 | N62: 1.314 | O62: 0.81 | P62: 0.61 | Q62: 1 | R62: 0.763 | S62: 0.737 | T62: 0.507
B63: 비금속 | C63: 수출액 | D63: 0 | E63: 0 | F63: 0 | G63: 0 | H63: 0 | I63: 0 | J63: 0 | K63: 0 | L63: 0 | M63: 0 | N63: 0 | O63: 0 | P63: 0 | Q63: 0 | R63: 0 | S63: 0 | T63: 0
B64: 철강 | C64: 수출액 | D64: 3.864 | E64: 3.169 | F64: 3.533 | G64: 2.71 | H64: 3.22 | I64: 3.818 | J64: 2.946 | K64: 3.074 | L64: 3.62 | M64: 2.513 | N64: 4.032 | O64: 4.168 | P64: 1.795 | Q64: 3 | R64: 2.88 | S64: 5.398 | T64: 1.666
B65: 기계 | C65: 수출액 | D65: 15.239 | E65: 14.395 | F65: 14.638 | G65: 14.115 | H65: 12.041 | I65: 11.606 | J65: 11.562 | K65: 11.671 | L65: 11.708 | M65: 11.861 | N65: 11.638 | O65: 11.658 | P65: 6.062 | Q65: 7 | R65: 8.745 | S65: 10.721 | T65: 9.643
B66: 전기전자 | C66: 수출액 | D66: 28.067 | E66: 25.844 | F66: 27.148 | G66: 23.09 | H66: 24.971 | I66: 22.409 | J66: 28.062 | K66: 25.432 | L66: 26.015 | M66: 30.776 | N66: 36.346 | O66: 51.531 | P66: 40.249 | Q66: 26 | R66: 29.186 | S66: 28.663 | T66: 28.639
B67: 운송장비 | C67: 수출액 | D67: 21.712 | E67: 19.607 | F67: 28.58 | G67: 27.049 | H67: 24.175 | I67: 19.334 | J67: 26.811 | K67: 25.509 | L67: 25.069 | M67: 24.727 | N67: 20.876 | O67: 21.262 | P67: 20.307 | Q67: 23 | R67: 19.604 | S67: 5.295 | T67: 9.075
B68: 기타 | C68: 수출액 | D68: 0.70369667 | E68: 0.70369667 | F68: 0.49369667 | G68: 0.21369667 | H68: 0.37369667 | I68: 0.23669667 | J68: 0.43569667 | K68: 0.49569667 | L68: 0.37069667 | M68: 0.35769667 | N68: 0.43969667 | O68: 0.43969667 | P68: 0.53169667 | Q68: 0 | R68: 0.52569667 | S68: 0.19869667 | T68: 0.42169667
B69: 전체 | C69: 수출액 | D69: =D59+D60+D61+D62+D63+D64+D65+D66+D67+D68 -> 71.137697 | E69: =E59+E60+E61+E62+E63+E64+E65+E66+E67+E68 -> 64.838697 | F69: =F59+F60+F61+F62+F63+F64+F65+F66+F67+F68 -> 74.728697 | G69: =G59+G60+G61+G62+G63+G64+G65+G66+G67+G68 -> 67.405697 | H69: =H59+H60+H61+H62+H63+H64+H65+H66+H67+H68 -> 65.011697 | I69: =I59+I60+I61+I62+I63+I64+I65+I66+I67+I68 -> 57.677697 | J69: =J59+J60+J61+J62+J63+J64+J65+J66+J67+J68 -> 70.598697 | K69: =K59+K60+K61+K62+K63+K64+K65+K66+K67+K68 -> 66.963697 | ... S69: =S59+S60+S61+S62+S63+S64+S65+S66+S67+S68 -> 51.444697 | T69: 50.279697
C70: 증감률(전월대비) | E70: =(E69-D69)/D69 -> -0.088546584 | F70: =(F69-E69)/E69 -> 0.15253237 | G70: =(G69-F69)/F69 -> -0.097994483 | H70: =(H69-G69)/G69 -> -0.035516286 | I70: =(I69-H69)/H69 -> -0.11281047 | J70: =(J69-I69)/I69 -> 0.22402073 | K70: =(K69-J69)/J69 -> -0.051488203 | L70: =(L69-K69)/K69 -> 0.012857713 | ... T70: =(T69-S69)/S69 -> -0.022645677
A71: 업종별 고용현황(명, %) | B71: 음식료 | C71: 고용인원 | D71: 30 | E71: 30 | F71: 31 | G71: 31 | H71: 31 | I71: 31 | J71: 30 | K71: 30 | L71: 32 | M71: 32 | N71: 32 | O71: 32 | P71: 46 | Q71: 47 | R71: 47 | S71: 47 | T71: 47
B72: 섬유의복 | C72: 고용인원 | D72: 530 | E72: 525 | F72: 524 | G72: 548 | H72: 539 | I72: 536 | J72: 541 | K72: 537 | L72: 535 | M72: 544 | N72: 540 | O72: 520 | P72: 490 | Q72: 478 | R72: 467 | S72: 459 | T72: 437
B73: 목재종이 | C73: 고용인원 | D73: 229 | E73: 221 | F73: 221 | G73: 223 | H73: 222 | I73: 219 | J73: 214 | K73: 214 | L73: 211 | M73: 211 | N73: 213 | O73: 212 | P73: 214 | Q73: 214 | R73: 213 | S73: 210 | T73: 214
B74: 석유화학 | C74: 고용인원 | D74: 1307 | E74: 1293 | F74: 1255 | G74: 1235 | H74: 1230 | I74: 1232 | J74: 1228 | K74: 1224 | L74: 1220 | M74: 1203 | N74: 1201 | O74: 1196 | P74: 1593 | Q74: 1589 | R74: 1587 | S74: 1573 | T74: 1569
B75: 비금속 | C75: 고용인원 | D75: 0 | E75: 0 | F75: 40 | G75: 40 | H75: 40 | I75: 40 | J75: 40 | K75: 40 | L75: 40 | M75: 40 | N75: 40 | O75: 40 | P75: 40 | Q75: 40 | R75: 40 | S75: 40 | T75: 40
B76: 철강 | C76: 고용인원 | D76: 463 | E76: 466 | F76: 468 | G76: 474 | H76: 478 | I76: 477 | J76: 480 | K76: 479 | L76: 483 | M76: 483 | N76: 488 | O76: 489 | P76: 472 | Q76: 473 | R76: 463 | S76: 459 | T76: 458
B77: 기계 | C77: 고용인원 | D77: 3183 | E77: 3178 | F77: 3206 | G77: 3100 | H77: 3078 | I77: 3065 | J77: 2879 | K77: 2872 | L77: 2880 | M77: 2885 | N77: 2792 | O77: 2761 | P77: 2680 | Q77: 2654 | R77: 2640 | S77: 2637 | T77: 2616
B78: 전기전자 | C78: 고용인원 | D78: 4909 | E78: 4775 | F78: 4799 | G78: 4815 | H78: 4811 | I78: 4858 | J78: 4848 | K78: 4822 | L78: 4827 | M78: 4684 | N78: 4658 | O78: 4638 | P78: 4590 | Q78: 4617 | R78: 4627 | S78: 4539 | T78: 4537
B79: 운송장비 | C79: 고용인원 | D79: 1890 | E79: 1882 | F79: 1870 | G79: 1864 | H79: 1856 | I79: 1844 | J79: 1836 | K79: 1824 | L79: 1818 | M79: 1814 | N79: 1811 | O79: 1804 | P79: 1781 | Q79: 1774 | R79: 1776 | S79: 1774 | T79: 1771
B80: 기타 | C80: 고용인원 | D80: 183 | E80: 183 | F80: 183 | G80: 183 | H80: 183 | I80: 186 | J80: 188 | K80: 187 | L80: 187 | M80: 186 | N80: 186 | O80: 186 | P80: 190 | Q80: 190 | R80: 190 | S80: 190 | T80: 190
B81: 비제조 | C81: 고용인원 | D81: 228 | E81: 228 | F81: 249 | G81: 239 | H81: 237 | I81: 222 | J81: 217 | K81: 215 | L81: 234 | M81: 235 | N81: 237 | O81: 224 | P81: 126 | Q81: 131 | R81: 132 | S81: 132 | T81: 126
B82: 전체 | C82: 고용인원 | D82: =D71+D72+D73+D74+D75+D76+D77+D78+D79+D80+D81 -> 12952 | E82: =E71+E72+E73+E74+E75+E76+E77+E78+E79+E80+E81 -> 12781 | F82: =F71+F72+F73+F74+F75+F76+F77+F78+F79+F80+F81 -> 12846 | G82: =G71+G72+G73+G74+G75+G76+G77+G78+G79+G80+G81 -> 12752 | H82: =H71+H72+H73+H74+H75+H76+H77+H78+H79+H80+H81 -> 12705 | I82: =I71+I72+I73+I74+I75+I76+I77+I78+I79+I80+I81 -> 12710 | J82: =J71+J72+J73+J74+J75+J76+J77+J78+J79+J80+J81 -> 12501 | K82: =K71+K72+K73+K74+K75+K76+K77+K78+K79+K80+K81 -> 12444 | ... S82: =S71+S72+S73+S74+S75+S76+S77+S78+S79+S80+S81 -> 12060 | T82: =SUM(T71:T81) -> 12005
C83: 증감률(전월대비) | E83: =(E82-D82)/D82 -> -0.013202594 | F83: =(F82-E82)/E82 -> 0.005085674 | G83: =(G82-F82)/F82 -> -0.0073174529 | H83: =(H82-G82)/G82 -> -0.0036856964 | I83: =(I82-H82)/H82 -> 0.00039354585 | J83: =(J82-I82)/I82 -> -0.016443745 | K83: =(K82-J82)/J82 -> -0.0045596352 | L83: =(L82-K82)/K82 -> 0.0018482803 | ... T83: =(T82-S82)/S82 -> -0.0045605307
