Workbook

Sheet 종합
A1: 인천국가산업단지 주요 통계 동향(2020.5월 현재)
A4: 출처 : www.kicox.or.kr-정보공개-산업단지정보
A5: 구 분 | B5: 산단 | C5: 전년 동기 대비 | F5: 전월대비
C6: 2019.05 | D6: 2020.05 | E6: 증감율(p.) | F6: 2020.04 | G6: 2020.05 | H6: 증감율(p.)
A7: 입주업체수(개사, %) | B7: 남동 | C7: =남동!H5 -> 6999 | D7: =남동!T5 -> 6806 | E7: =(D7-C7)/C7 -> -0.027575368 | F7: =남동!S5 -> 6798 | G7: =남동!T5 -> 6806 | H7: =(G7-F7)/F7 -> 0.0011768167
B8: 부평 | C8: =부평!H5 -> 953 | D8: =부평!T5 -> 1020 | E8: =(D8-C8)/C8 -> 0.070304302 | F8: =부평!S5 -> 1014 | G8: =부평!T5 -> 1020 | H8: =(G8-F8)/F8 -> 0.0059171598
B9: 주안 | C9: =주안!H5 -> 1111 | D9: =주안!T5 -> 1080 | E9: =(D9-C9)/C9 -> -0.02790279 | F9: =주안!S5 -> 1076 | G9: =주안!T5 -> 1080 | H9: =(G9-F9)/F9 -> 0.0037174721
A10: 가동업체수(개사, %) | B10: 남동 | C10: =남동!H33 -> 6818 | D10: =남동!T33 -> 6604 | E10: =(D10-C10)/C10 -> -0.031387504 | F10: =남동!S33 -> 6601 | G10: =남동!T33 -> 6604 | H10: =(G10-F10)/F10 -> 0.00045447659
B11: 부평 | C11: =부평!H33 -> 952 | D11: =부평!T33 -> 1005 | E11: =(D11-C11)/C11 -> 0.055672269 | F11: =부평!S33 -> 1005 | G11: =부평!T33 -> 1005 | H11: =(G11-F11)/F11 -> 0
B12: 주안 | C12: =주안!H33 -> 1111 | D12: =주안!T33 -> 1080 | E12: =(D12-C12)/C12 -> -0.02790279 | F12: =주안!S33 -> 1076 | G12: =주안!T33 -> 1080 | H12: =(G12-F12)/F12 -> 0.0037174721
A13: 가동률(%) | B13: 남동 | C13: =남동!H45 -> 62.346319 | D13: =남동!T45 -> 57.526 | E13: =(D13-C13)/C13 -> -0.077315215 | F13: =남동!S45 -> 59.299279 | G13: =남동!T45 -> 57.526 | H13: =(G13-F13)/F13 -> -0.029903882
B14: 부평 | C14: =부평!H45 -> 72.249616 | D14: =부평!T45 -> 68.201 | E14: =(D14-C14)/C14 -> -0.056036505 | F14: =부평!S45 -> 69.168895 | G14: =부평!T45 -> 68.201 | H14: =(G14-F14)/F14 -> -0.01399321
B15: 주안 | C15: =주안!H45 -> 77.454948 | D15: =주안!T45 -> 71.448666 | E15: =(D15-C15)/C15 -> -0.077545483 | F15: =주안!S45 -> 76.629716 | G15: =주안!T45 -> 71.448666 | H15: =(G15-F15)/F15 -> -0.067611491
A16: 생산실적(억원, %) | B16: 남동 | C16: =남동!H57 -> 22741.978 | D16: =남동!T57 -> 21327.316 | E16: =(D16-C16)/C16 -> -0.062204898 | F16: =남동!S57 -> 21731.776 | G16: =남동!T57 -> 21327.316 | H16: =(G16-F16)/F16 -> -0.01861147
B17: 부평 | C17: =부평!H57 -> 2557.3921 | D17: =부평!T57 -> 2292.62 | E17: =(D17-C17)/C17 -> -0.10353205 | F17: =부평!S57 -> 2328.5076 | G17: =부평!T57 -> 2292.62 | H17: =(G17-F17)/F17 -> -0.015412257
B18: 주안 | C18: =주안!H57 -> 2923.9105 | D18: =주안!T57 -> 2671.5266 | E18: =(D18-C18)/C18 -> -0.086317255 | F18: =주안!S57 -> 2891.2126 | G18: =주안!T57 -> 2671.5266 | H18: =(G18-F18)/F18 -> -0.075984036
A19: 수출실적(백만달러, %) | B19: 남동 | C19: =남동!H69 -> 410.24329 | D19: =남동!T69 -> 421.7925 | E19: =(D19-C19)/C19 -> 0.028152102 | F19: =남동!S69 -> 362.13429 | G19: =남동!T69 -> 421.7925 | H19: =(G19-F19)/F19 -> 0.16474058
B20: 부평 | C20: =부평!H69 -> 32.050123 | D20: =부평!T69 -> 30.3711 | E20: =(D20-C20)/C20 -> -0.052387422 | F20: =부평!S69 -> 30.237123 | G20: =부평!T69 -> 30.3711 | H20: =(G20-F20)/F20 -> 0.0044308668
B21: 주안 | C21: =주안!H69 -> 65.011697 | D21: =주안!T69 -> 50.279697 | E21: =(D21-C21)/C21 -> -0.22660538 | F21: =주안!S69 -> 51.444697 | G21: =주안!T69 -> 50.279697 | H21: =(G21-F21)/F21 -> -0.022645677
A22: 고용현황(명, %) | B22: 남동 | C22: =남동!H82 -> 103090 | D22: =남동!T82 -> 102681 | E22: =(D22-C22)/C22 -> -0.0039674071 | F22: =남동!S82 -> 103247 | G22: =남동!T82 -> 102681 | H22: =(G22-F22)/F22 -> -0.0054819995
B23: 부평 | C23: =부평!H82 -> 13976 | D23: =부평!T82 -> 13519 | E23: =(D23-C23)/C23 -> -0.032698912 | F23: =부평!S82 -> 13611 | G23: =부평!T82 -> 13519 | H23: =(G23-F23)/F23 -> -0.0067592389
B24: 주안 | C24: =주안!H82 -> 12705 | D24: =주안!T82 -> 12005 | E24: =(D24-C24)/C24 -> -0.055096419 | F24: =주안!S82 -> 12060 | G24: =주안!T82 -> 12005 | H24: =(G24-F24)/F24 -> -0.0045605307

Sheet 남동
A1: 남동국가 산업단지 현황(2019.01~)
A3: 출처 : www.kicox.or.kr-정보공개-산업단지정보
A4: 구 분 | D4: 2019.1 | E4: 2 | F4: 3 | G4: 4 | H4: 5 | I4: 6 | J4: 7 | K4: 8 | L4: 9 | M4: 10 | N4: 11 | O4: 12 | P4: 2020.1 | Q4: 2 | R4: 3 | S4: 4 | T4: 5
A5: 입주업체수 (개사, %) | C5: 업체수 | D5: 6906 | E5: 6914 | F5: 6933 | G5: 6975 | H5: 6999 | I5: 7025 | J5: 6988 | K5: 6936 | L5: 6824 | M5: 6761 | N5: 6751 | O5: 6775 | P5: 6777 | Q5: 6792 | R5: 6802 | S5: 6798 | T5: 6806
C6: 증감률(전월대비) | E6: =(E5-D5)/D5 -> 0.001158413 | F6: =(F5-E5)/E5 -> 0.0027480474 | G6: =(G5-F5)/F5 -> 0.0060579836 | H6: =(H5-G5)/G5 -> 0.0034408602 | I6: =(I5-H5)/H5 -> 0.0037148164 | J6: =(J5-I5)/I5 -> -0.0052669039 | K6: =(K5-J5)/J5 -> -0.007441328 | L6: =(L5-K5)/K5 -> -0.016147636 | ... T6: =(T5-S5)/S5 -> 0.0011768167
A7: 임차업체수 (개사, %) | C7: 업체수 | D7: 4710 | E7: 4718 | F7: 4736 | G7: 4774 | H7: 4786 | I7: 4809 | J7: 4753 | K7: 4697 | L7: 4581 | M7: 4518 | N7: 4492 | O7: 4495 | P7: 4483 | Q7: 4487 | R7: 4482 | S7: 4469 | T7: 4462
C8: 증감률(전월대비) | E8: =(E7-D7)/D7 -> 0.0016985138 | F8: =(F7-E7)/E7 -> 0.0038151759 | G8: =(G7-F7)/F7 -> 0.0080236486 | H8: =(H7-G7)/G7 -> 0.0025136154 | I8: =(I7-H7)/H7 -> 0.0048056832 | J8: =(J7-I7)/I7 -> -0.011644833 | K8: =(K7-J7)/J7 -> -0.011782032 | L8: =(L7-K7)/K7 -> -0.024696615 | ... T8: =(T7-S7)/S7 -> -0.0015663459
A9: 업종별 입주업체수(개사, %) | B9: 음식료 | C9: 업체수 | D9: 173 | E9: 173 | F9: 173 | G9: 174 | H9: 175 | I9: 176 | J9: 181 | K9: 183 | L9: 183 | M9: 180 | N9: 177 | O9: 176 | P9: 176 | Q9: 175 | R9: 175 | S9: 175 | T9: 179
B10: 섬유의복 | C10: 업체수 | D10: 70 | E10: 70 | F10: 70 | G10: 71 | H10: 70 | I10: 75 | J10: 74 | K10: 73 | L10: 73 | M10: 75 | N10: 73 | O10: 74 | P10: 76 | Q10: 76 | R10: 77 | S10: 81 | T10: 89
B11: 목재종이 | C11: 업체수 | D11: 299 | E11: 300 | F11: 302 | G11: 304 | H11: 304 | I11: 300 | J11: 297 | K11: 297 | L11: 293 | M11: 290 | N11: 290 | O11: 288 | P11: 288 | Q11: 287 | R11: 287 | S11: 288 | T11: 293
B12: 석유화학 | C12: 업체수 | D12: 791 | E12: 791 | F12: 792 | G12: 794 | H12: 795 | I12: 801 | J12: 800 | K12: 797 | L12: 790 | M12: 788 | N12: 783 | O12: 784 | P12: 785 | Q12: 787 | R12: 785 | S12: 787 | T12: 784
B13: 비금속 | C13: 업체수 | D13: 60 | E13: 60 | F13: 59 | G13: 59 | H13: 60 | I13: 59 | J13: 59 | K13: 59 | L13: 58 | M13: 58 | N13: 58 | O13: 58 | P13: 58 | Q13: 58 | R13: 59 | S13: 59 | T13: 58
B14: 철강 | C14: 업체수 | D14: 151 | E14: 151 | F14: 152 | G14: 152 | H14: 150 | I14: 152 | J14: 151 | K14: 151 | L14: 151 | M14: 149 | N14: 149 | O14: 148 | P14: 147 | Q14: 148 | R14: 149 | S14: 149 | T14: 148
B15: 기계 | C15: 업체수 | D15: 3700 | E15: 3697 | F15: 3704 | G15: 3719 | H15: 3730 | I15: 3740 | J15: 3709 | K15: 3674 | L15: 3592 | M15: 3557 | N15: 3557 | O15: 3564 | P15: 3564 | Q15: 3574 | R15: 3577 | S15: 3571 | T15: 3562
B16: 전기전자 | C16: 업체수 | D16: 1187 | E16: 1193 | F16: 1201 | G16: 1217 | H16: 1226 | I16: 1229 | J16: 1225 | K16: 1210 | L16: 1196 | M16: 1181 | N16: 1184 | O16: 1184 | P16: 1180 | Q16: 1184 | R16: 1188 | S16: 1180 | T16: 1184
B17: 운송장비 | C17: 업체수 | D17: 241 | E17: 241 | F17: 241 | G17: 243 | H17: 244 | I17: 243 | J17: 243 | K17: 242 | L17: 237 | M17: 233 | N17: 223 | O17: 234 | P17: 234 | Q17: 232 | R17: 231 | S17: 232 | T17: 232
B18: 기타 | C18: 업체수 | D18: 190 | E18: 193 | F18: 195 | G18: 197 | H18: 198 | I18: 203 | J18: 203 | K18: 204 | L18: 203 | M18: 200 | N18: 204 | O18: 207 | P18: 209 | Q18: 211 | R18: 211 | S18: 212 | T18: 214
B19: 비제조 | C19: 업체수 | D19: 44 | E19: 45 | F19: 44 | G19: 45 | H19: 47 | I19: 47 | J19: 46 | K19: 46 | L19: 48 | M19: 50 | N19: 53 | O19: 58 | P19: 60 | Q19: 60 | R19: 63 | S19: 64 | T19: 63
B20: 계 | C20: 업체수 | D20: =D9+D10+D11+D12+D13+D14+D15+D16+D17+D18+D19 -> 6906 | E20: =E9+E10+E11+E12+E13+E14+E15+E16+E17+E18+E19 -> 6914 | F20: =F9+F10+F11+F12+F13+F14+F15+F16+F17+F18+F19 -> 6933 | G20: =G9+G10+G11+G12+G13+G14+G15+G16+G17+G18+G19 -> 6975 | H20: =H9+H10+H11+H12+H13+H14+H15+H16+H17+H18+H19 -> 6999 | I20: =I9+I10+I11+I12+I13+I14+I15+I16+I17+I18+I19 -> 7025 | J20: =J9+J10+J11+J12+J13+J14+J15+J16+J17+J18+J19 -> 6988 | K20: =K9+K10+K11+K12+K13+K14+K15+K16+K17+K18+K19 -> 6936 | ... S20: =S9+S10+S11+S12+S13+S14+S15+S16+S17+S18+S19 -> 6798 | T20: =SUM(T9:T19) -> 6806
C21: 증감률(전월대비) | E21: =(E20-D20)/D20 -> 0.001158413 | F21: =(F20-E20)/E20 -> 0.0027480474 | G21: =(G20-F20)/F20 -> 0.0060579836 | H21: =(H20-G20)/G20 -> 0.0034408602 | I21: =(I20-H20)/H20 -> 0.0037148164 | J21: =(J20-I20)/I20 -> -0.0052669039 | K21: =(K20-J20)/J20 -> -0.007441328 | L21: =(L20-K20)/K20 -> -0.016147636 | ... T21: =(T20-S20)/S20 -> 0.0011768167
A22: 업종별 가동업체수(개사, %) | B22: 음식료 | C22: 업체수 | D22: 168 | E22: 168 | F22: 168 | G22: 169 | H22: 170 | I22: 169 | J22: 175 | K22: 177 | L22: 177 | M22: 176 | N22: 173 | O22: 171 | P22: 171 | Q22: 170 | R22: 170 | S22: 171 | T22: 174
B23: 섬유의복 | C23: 업체수 | D23: 69 | E23: 69 | F23: 69 | G23: 70 | H23: 70 | I23: 74 | J23: 73 | K23: 72 | L23: 72 | M23: 72 | N23: 71 | O23: 72 | P23: 73 | Q23: 73 | R23: 72 | S23: 76 | T23: 84
B24: 목재종이 | C24: 업체수 | D24: 290 | E24: 291 | F24: 293 | G24: 296 | H24: 295 | I24: 292 | J24: 289 | K24: 288 | L24: 284 | M24: 281 | N24: 281 | O24: 280 | P24: 280 | Q24: 280 | R24: 280 | S24: 282 | T24: 286
B25: 석유화학 | C25: 업체수 | D25: 768 | E25: 771 | F25: 771 | G25: 774 | H25: 777 | I25: 783 | J25: 784 | K25: 781 | L25: 773 | M25: 772 | N25: 767 | O25: 766 | P25: 767 | Q25: 768 | R25: 766 | S25: 767 | T25: 763
B26: 비금속 | C26: 업체수 | D26: 58 | E26: 58 | F26: 57 | G26: 57 | H26: 58 | I26: 57 | J26: 57 | K26: 57 | L26: 56 | M26: 56 | N26: 56 | O26: 56 | P26: 56 | Q26: 56 | R26: 57 | S26: 57 | T26: 56
B27: 철강 | C27: 업체수 | D27: 150 | E27: 150 | F27: 151 | G27: 151 | H27: 149 | I27: 151 | J27: 149 | K27: 149 | L27: 149 | M27: 147 | N27: 147 | O27: 146 | P27: 144 | Q27: 145 | R27: 146 | S27: 146 | T27: 145
B28: 기계 | C28: 업체수 | D28: 3604 | E28: 3603 | F28: 3611 | G28: 3622 | H28: 3629 | I28: 3637 | J28: 3604 | K28: 3571 | L28: 3491 | M28: 3462 | N28: 3455 | O28: 3462 | P28: 3463 | Q28: 3478 | R28: 3473 | S28: 3476 | T28: 3459
B29: 전기전자 | C29: 업체수 | D29: 1153 | E29: 1160 | F29: 1168 | G29: 1186 | H29: 1195 | I29: 1200 | J29: 1189 | K29: 1176 | L29: 1161 | M29: 1146 | N29: 1150 | O29: 1147 | P29: 1136 | Q29: 1138 | R29: 1142 | S29: 1137 | T29: 1143
B30: 운송장비 | C30: 업체수 | D30: 236 | E30: 236 | F30: 236 | G30: 238 | H30: 237 | I30: 238 | J30: 237 | K30: 235 | L30: 232 | M30: 229 | N30: 218 | O30: 229 | P30: 229 | Q30: 226 | R30: 225 | S30: 223 | T30: 225
B31: 기타 | C31: 업체수 | D31: 185 | E31: 188 | F31: 190 | G31: 192 | H31: 192 | I31: 194 | J31: 194 | K31: 196 | L31: 195 | M31: 192 | N31: 194 | O31: 196 | P31: 197 | Q31: 200 | R31: 200 | S31: 202 | T31: 206
B32: 비제조 | C32: 업체수 | D32: 34 | E32: 33 | F32: 44 | G32: 44 | H32: 46 | I32: 46 | J32: 46 | K32: 46 | L32: 48 | M32: 50 | N32: 53 | O32: 58 | P32: 60 | Q32: 60 | R32: 63 | S32: 64 | T32: 63
B33: 계 | C33: 업체수 | D33: =D22+D23+D24+D25+D26+D27+D28+D29+D30+D31+D32 -> 6715 | E33: =E22+E23+E24+E25+E26+E27+E28+E29+E30+E31+E32 -> 6727 | F33: =F22+F23+F24+F25+F26+F27+F28+F29+F30+F31+F32 -> 6758 | G33: =G22+G23+G24+G25+G26+G27+G28+G29+G30+G31+G32 -> 6799 | H33: =H22+H23+H24+H25+H26+H27+H28+H29+H30+H31+H32 -> 6818 | I33: =I22+I23+I24+I25+I26+I27+I28+I29+I30+I31+I32 -> 6841 | J33: =J22+J23+J24+J25+J26+J27+J28+J29+J30+J31+J32 -> 6797 | K33: =K22+K23+K24+K25+K26+K27+K28+K29+K30+K31+K32 -> 6748 | ... S33: =S22+S23+S24+S25+S26+S27+S28+S29+S30+S31+S32 -> 6601 | T33: =SUM(T22:T32) -> 6604
C34: 증감률(전월대비) | E34: =(E33-D33)/D33 -> 0.0017870439 | F34: =(F33-E33)/E33 -> 0.0046082949 | G34: =(G33-F33)/F33 -> 0.0060668837 | H34: =(H33-G33)/G33 -> 0.0027945286 | I34: =(I33-H33)/H33 -> 0.0033734233 | J34: =(J33-I33)/I33 -> -0.0064318082 | K34: =(K33-J33)/J33 -> -0.0072090628 | L34: =(L33-K33)/K33 -> -0.016301126 | ... T34: =(T33-S33)/S33 -> 0.00045447659
A35: 업종별 가동률(%) | B35: 음식료 | C35: 가동률 | D35: 80.447287 | E35: 61.519856 | F35: 76.352736 | G35: 78.433131 | H35: 76.744263 | I35: 76.782339 | J35: 75.802615 | K35: 79.851228 | L35: 79.432187 | M35: 82.594969 | N35: 79.42849 | O35: 76.900602 | P35: 77.260803 | Q35: 71.3 | R35: 73.993116 | S35: 79.142138 | T35: 79.5
B36: 섬유의복 | C36: 가동률 | D36: 76.230315 | E36: 48.163007 | F36: 61.857611 | G36: 62.233948 | H36: 75.084595 | I36: 71.893597 | J36: 78.839213 | K36: 73.198104 | L36: 83.200544 | M36: 80.066742 | N36: 72.938214 | O36: 64.602998 | P36: 42.908054 | Q36: 46 | R36: 45.153957 | S36: 47.766732 | T36: 57.1
A37: 가동률은 제조업 가동업체 대상 | B37: 목재종이 | C37: 가동률 | D37: 75.007561 | E37: 71.095198 | F37: 79.655716 | G37: 78.060001 | H37: 68.852998 | I37: 69.528402 | J37: 70.450996 | K37: 70.841242 | L37: 74.352283 | M37: 67.338378 | N37: 73.104098 | O37: 64.270668 | P37: 68.29155 | Q37: 69.3 | R37: 70.658291 | S37: 67.375389 | T37: 64.5
B38: 석유화학 | C38: 가동률 | D38: 70.060642 | E38: 75.78858 | F38: 69.965915 | G38: 75.463959 | H38: 72.892703 | I38: 67.232948 | J38: 71.66162 | K38: 67.674328 | L38: 70.016631 | M38: 70.449464 | N38: 69.583156 | O38: 67.866195 | P38: 65.984335 | Q38: 68.7 | R38: 71.551126 | S38: 67.515145 | T38: 61.3
B39: 비금속 | C39: 가동률 | D39: 80.275126 | E39: 20 | F39: 85.650123 | G39: 78.962721 | H39: 78.433517 | I39: 74.727774 | J39: 62.540476 | K39: 76.998961 | L39: 70.560824 | M39: 72.773353 | N39: 68.552809 | O39: 84.83478 | P39: 76.180646 | Q39: 76.7 | R39: 62.786157 | S39: 55.737785 | T39: 60.7
B40: 철강 | C40: 가동률 | D40: 87.140934 | E40: 76.846345 | F40: 88.691324 | G40: 90.883519 | H40: 90.076281 | I40: 88.591539 | J40: 85.85072 | K40: 87.838148 | L40: 86.045752 | M40: 89.962139 | N40: 86.907633 | O40: 86.660151 | P40: 84.773296 | Q40: 84.9 | R40: 87.560513 | S40: 86.155967 | T40: 80.4
B41: 기계 | C41: 가동률 | D41: 65.587636 | E41: 43.941984 | F41: 62.819017 | G41: 51.108308 | H41: 54.993707 | I41: 55.853205 | J41: 55.819259 | K41: 54.211832 | L41: 51.081678 | M41: 55.650195 | N41: 53.543104 | O41: 52.357306 | P41: 49.922955 | Q41: 49.8 | R41: 53.862138 | S41: 54.45019 | T41: 54.3
...

Sheet 부평
A1: 부평국가 산업단지 현황(2019.01~)
A3: 출처 : www.kicox.or.kr-정보공개-산업단지정보
A4: 구 분 | D4: 2019.1 | E4: 2 | F4: 3 | G4: 4 | H4: 5 | I4: 6 | J4: 7 | K4: 8 | L4: 9 | M4: 10 | N4: 11 | O4: 12 | P4: 2020.1 | Q4: 2 | R4: 3 | S4: 4 | T4: 5
A5: 입주업체수 (개사, %) | C5: 업체수 | D5: 942 | E5: 942 | F5: 953 | G5: 953 | H5: 953 | I5: 961 | J5: 961 | K5: 966 | L5: 966 | M5: 966 | N5: 975 | O5: 980 | P5: 989 | Q5: 993 | R5: 1007 | S5: 1014 | T5: 1020
C6: 증감률(전월대비) | E6: =(E5-D5)/D5 -> 0 | F6: =(F5-E5)/E5 -> 0.011677282 | G6: =(G5-F5)/F5 -> 0 | H6: =(H5-G5)/G5 -> 0 | I6: =(I5-H5)/H5 -> 0.0083945435 | J6: =(J5-I5)/I5 -> 0 | K6: =(K5-J5)/J5 -> 0.0052029136 | L6: =(L5-K5)/K5 -> 0 | ... T6: =(T5-S5)/S5 -> 0.0059171598
A7: 임차업체수 (개사, %) | C7: 업체수 | D7: 424 | E7: 424 | F7: 426 | G7: 426 | H7: 426 | I7: 430 | J7: 430 | K7: 431 | L7: 431 | M7: 431 | N7: 436 | O7: 437 | P7: 437 | Q7: 437 | R7: 440 | S7: 439 | T7: 440
C8: 증감률(전월대비) | E8: =(E7-D7)/D7 -> 0 | F8: =(F7-E7)/E7 -> 0.0047169811 | G8: =(G7-F7)/F7 -> 0 | H8: =(H7-G7)/G7 -> 0 | I8: =(I7-H7)/H7 -> 0.0093896714 | J8: =(J7-I7)/I7 -> 0 | K8: =(K7-J7)/J7 -> 0.0023255814 | L8: =(L7-K7)/K7 -> 0 | ... T8: =(T7-S7)/S7 -> 0.0022779043
A9: 업종별 입주업체수(개사, %) | B9: 음식료 | C9: 업체수 | D9: 13 | E9: 13 | F9: 13 | G9: 13 | H9: 13 | I9: 13 | J9: 13 | K9: 13 | L9: 13 | M9: 13 | N9: 13 | O9: 13 | P9: 13 | Q9: 13 | R9: 13 | S9: 14 | T9: 13
B10: 섬유의복 | C10: 업체수 | D10: 40 | E10: 40 | F10: 40 | G10: 40 | H10: 40 | I10: 40 | J10: 40 | K10: 40 | L10: 40 | M10: 40 | N10: 40 | O10: 40 | P10: 41 | Q10: 41 | R10: 41 | S10: 42 | T10: 45
B11: 목재종이 | C11: 업체수 | D11: 27 | E11: 27 | F11: 27 | G11: 27 | H11: 27 | I11: 27 | J11: 27 | K11: 27 | L11: 27 | M11: 27 | N11: 27 | O11: 27 | P11: 27 | Q11: 27 | R11: 27 | S11: 28 | T11: 28
B12: 석유화학 | C12: 업체수 | D12: 64 | E12: 64 | F12: 64 | G12: 64 | H12: 64 | I12: 64 | J12: 64 | K12: 64 | L12: 64 | M12: 64 | N12: 64 | O12: 64 | P12: 65 | Q12: 68 | R12: 67 | S12: 67 | T12: 70
B13: 비금속 | C13: 업체수 | D13: 3 | E13: 3 | F13: 3 | G13: 3 | H13: 3 | I13: 3 | J13: 3 | K13: 3 | L13: 3 | M13: 3 | N13: 3 | O13: 3 | P13: 4 | Q13: 4 | R13: 4 | S13: 4 | T13: 4
B14: 철강 | C14: 업체수 | D14: 9 | E14: 9 | F14: 9 | G14: 9 | H14: 9 | I14: 9 | J14: 9 | K14: 9 | L14: 9 | M14: 9 | N14: 9 | O14: 9 | P14: 9 | Q14: 9 | R14: 9 | S14: 9 | T14: 9
B15: 기계 | C15: 업체수 | D15: 285 | E15: 285 | F15: 289 | G15: 289 | H15: 289 | I15: 289 | J15: 289 | K15: 291 | L15: 291 | M15: 291 | N15: 294 | O15: 296 | P15: 297 | Q15: 297 | R15: 300 | S15: 299 | T15: 300
B16: 전기전자 | C16: 업체수 | D16: 339 | E16: 339 | F16: 343 | G16: 343 | H16: 343 | I16: 351 | J16: 351 | K16: 354 | L16: 354 | M16: 354 | N16: 360 | O16: 363 | P16: 368 | Q16: 369 | R16: 379 | S16: 383 | T16: 382
B17: 운송장비 | C17: 업체수 | D17: 17 | E17: 17 | F17: 17 | G17: 17 | H17: 17 | I17: 17 | J17: 17 | K17: 17 | L17: 17 | M17: 17 | N17: 17 | O17: 17 | P17: 17 | Q17: 17 | R17: 17 | S17: 17 | T17: 17
B18: 기타 | C18: 업체수 | D18: 43 | E18: 43 | F18: 43 | G18: 43 | H18: 43 | I18: 43 | J18: 43 | K18: 43 | L18: 43 | M18: 43 | N18: 43 | O18: 43 | P18: 43 | Q18: 43 | R18: 43 | S18: 43 | T18: 43
B19: 비제조 | C19: 업체수 | D19: 102 | E19: 102 | F19: 105 | G19: 105 | H19: 105 | I19: 105 | J19: 105 | K19: 105 | L19: 105 | M19: 105 | N19: 105 | O19: 105 | P19: 105 | Q19: 105 | R19: 107 | S19: 108 | T19: 109
B20: 계 | C20: 업체수 | D20: =D9+D10+D11+D12+D13+D14+D15+D16+D17+D18+D19 -> 942 | E20: =E9+E10+E11+E12+E13+E14+E15+E16+E17+E18+E19 -> 942 | F20: =F9+F10+F11+F12+F13+F14+F15+F16+F17+F18+F19 -> 953 | G20: =G9+G10+G11+G12+G13+G14+G15+G16+G17+G18+G19 -> 953 | H20: =H9+H10+H11+H12+H13+H14+H15+H16+H17+H18+H19 -> 953 | I20: =I9+I10+I11+I12+I13+I14+I15+I16+I17+I18+I19 -> 961 | J20: =J9+J10+J11+J12+J13+J14+J15+J16+J17+J18+J19 -> 961 | K20: =K9+K10+K11+K12+K13+K14+K15+K16+K17+K18+K19 -> 966 | ... S20: =S9+S10+S11+S12+S13+S14+S15+S16+S17+S18+S19 -> 1014 | T20: =SUM(T9:T19) -> 1020
C21: 증감률(전월대비) | E21: =(E20-D20)/D20 -> 0 | F21: =(F20-E20)/E20 -> 0.011677282 | G21: =(G20-F20)/F20 -> 0 | H21: =(H20-G20)/G20 -> 0 | I21: =(I20-H20)/H20 -> 0.0083945435 | J21: =(J20-I20)/I20 -> 0 | K21: =(K20-J20)/J20 -> 0.0052029136 | L21: =(L20-K20)/K20 -> 0 | ... T21: =(T20-S20)/S20 -> 0.0059171598
A22: 업종별 가동업체수(개사, %) | B22: 음식료 | C22: 업체수 | D22: 13 | E22: 13 | F22: 13 | G22: 13 | H22: 13 | I22: 13 | J22: 13 | K22: 13 | L22: 13 | M22: 13 | N22: 13 | O22: 13 | P22: 13 | Q22: 13 | R22: 13 | S22: 13 | T22: 13
B23: 섬유의복 | C23: 업체수 | D23: 40 | E23: 40 | F23: 40 | G23: 40 | H23: 40 | I23: 40 | J23: 40 | K23: 40 | L23: 40 | M23: 40 | N23: 40 | O23: 40 | P23: 40 | Q23: 41 | R23: 41 | S23: 42 | T23: 45
B24: 목재종이 | C24: 업체수 | D24: 27 | E24: 27 | F24: 27 | G24: 27 | H24: 27 | I24: 27 | J24: 27 | K24: 27 | L24: 27 | M24: 27 | N24: 27 | O24: 27 | P24: 27 | Q24: 27 | R24: 27 | S24: 28 | T24: 28
B25: 석유화학 | C25: 업체수 | D25: 64 | E25: 64 | F25: 64 | G25: 64 | H25: 64 | I25: 64 | J25: 64 | K25: 64 | L25: 64 | M25: 64 | N25: 64 | O25: 64 | P25: 65 | Q25: 67 | R25: 67 | S25: 67 | T25: 70
B26: 비금속 | C26: 업체수 | D26: 3 | E26: 3 | F26: 3 | G26: 3 | H26: 3 | I26: 3 | J26: 3 | K26: 3 | L26: 3 | M26: 3 | N26: 3 | O26: 3 | P26: 4 | Q26: 4 | R26: 4 | S26: 4 | T26: 4
B27: 철강 | C27: 업체수 | D27: 9 | E27: 9 | F27: 9 | G27: 9 | H27: 9 | I27: 9 | J27: 9 | K27: 9 | L27: 9 | M27: 9 | N27: 9 | O27: 9 | P27: 9 | Q27: 9 | R27: 9 | S27: 9 | T27: 9
B28: 기계 | C28: 업체수 | D28: 285 | E28: 285 | F28: 289 | G28: 289 | H28: 289 | I28: 289 | J28: 289 | K28: 291 | L28: 291 | M28: 291 | N28: 294 | O28: 295 | P28: 296 | Q28: 297 | R28: 298 | S28: 298 | T28: 299
B29: 전기전자 | C29: 업체수 | D29: 339 | E29: 339 | F29: 343 | G29: 343 | H29: 343 | I29: 351 | J29: 351 | K29: 354 | L29: 354 | M29: 354 | N29: 360 | O29: 362 | P29: 365 | Q29: 368 | R29: 376 | S29: 379 | T29: 379
B30: 운송장비 | C30: 업체수 | D30: 17 | E30: 17 | F30: 17 | G30: 17 | H30: 17 | I30: 17 | J30: 17 | K30: 17 | L30: 17 | M30: 17 | N30: 17 | O30: 17 | P30: 17 | Q30: 17 | R30: 17 | S30: 17 | T30: 16
B31: 기타 | C31: 업체수 | D31: 43 | E31: 43 | F31: 43 | G31: 43 | H31: 43 | I31: 43 | J31: 43 | K31: 43 | L31: 43 | M31: 43 | N31: 43 | O31: 43 | P31: 43 | Q31: 43 | R31: 43 | S31: 43 | T31: 40
B32: 비제조 | C32: 업체수 | D32: 101 | E32: 101 | F32: 104 | G32: 104 | H32: 104 | I32: 104 | J32: 104 | K32: 104 | L32: 104 | M32: 104 | N32: 104 | O32: 104 | P32: 104 | Q32: 104 | R32: 105 | S32: 105 | T32: 102
B33: 계 | C33: 업체수 | D33: =D22+D23+D24+D25+D26+D27+D28+D29+D30+D31+D32 -> 941 | E33: =E22+E23+E24+E25+E26+E27+E28+E29+E30+E31+E32 -> 941 | F33: =F22+F23+F24+F25+F26+F27+F28+F29+F30+F31+F32 -> 952 | G33: =G22+G23+G24+G25+G26+G27+G28+G29+G30+G31+G32 -> 952 | H33: =H22+H23+H24+H25+H26+H27+H28+H29+H30+H31+H32 -> 952 | I33: =I22+I23+I24+I25+I26+I27+I28+I29+I30+I31+I32 -> 960 | J33: =J22+J23+J24+J25+J26+J27+J28+J29+J30+J31+J32 -> 960 | K33: =K22+K23+K24+K25+K26+K27+K28+K29+K30+K31+K32 -> 965 | ... S33: =S22+S23+S24+S25+S26+S27+S28+S29+S30+S31+S32 -> 1005 | T33: =SUM(T22:T32) -> 1005
C34: 증감률(전월대비) | E34: =(E33-D33)/D33 -> 0 | F34: =(F33-E33)/E33 -> 0.011689692 | G34: =(G33-F33)/F33 -> 0 | H34: =(H33-G33)/G33 -> 0 | I34: =(I33-H33)/H33 -> 0.0084033613 | J34: =(J33-I33)/I33 -> 0 | K34: =(K33-J33)/J33 -> 0.0052083333 | L34: =(L33-K33)/K33 -> 0 | ... T34: =(T33-S33)/S33 -> 0
A35: 업종별 가동률(%) | B35: 음식료 | C35: 가동률 | D35: 76.216666 | E35: 61.519856 | F35: 74.343931 | G35: 73.336297 | H35: 74.94376 | I35: 76.802637 | J35: 52.526374 | K35: 46.115433 | L35: 68.797945 | M35: 80.361735 | N35: 82.919377 | O35: 74.524454 | P35: 70.979755 | Q35: 72.3 | R35: 76.37844 | S35: 69.836469 | T35: 70.4
B36: 섬유의복 | C36: 가동률 | D36: 67.634401 | E36: 48.163007 | F36: 64.27118 | G36: 54.674419 | H36: 53.651163 | I36: 49.426357 | J36: 46.27907 | K36: 76.205106 | L36: 71.514818 | M36: 66.82453 | N36: 63.363162 | O36: 75.335739 | P36: 66.781598 | Q36: 69.9 | R36: 80.219134 | S36: 69.807075 | T36: 68.1
A37: 가동률은 제조업 가동업체 대상 | B37: 목재종이 | C37: 가동률 | D37: 93.93903 | E37: 71.095198 | F37: 77.310616 | G37: 74.39045 | H37: 86.968582 | I37: 79.891555 | J37: 78.419619 | K37: 73.592979 | L37: 68.256945 | M37: 90.146922 | N37: 93.082789 | O37: 79.264675 | P37: 83.889616 | Q37: 76 | R37: 89.051995 | S37: 84.205128 | T37: 88.6
B38: 석유화학 | C38: 가동률 | D38: 82.742425 | E38: 75.78858 | F38: 73.47873 | G38: 74.951465 | H38: 75.259822 | I38: 80.430745 | J38: 79.136406 | K38: 88.37615 | L38: 81.171428 | M38: 77.957791 | N38: 73.805071 | O38: 76.892271 | P38: 85.063988 | Q38: 75.6 | R38: 77.396305 | S38: 74.484917 | T38: 69.6
B39: 비금속 | C39: 가동률 | D39: 20 | E39: 20 | F39: 20 | G39: 20 | H39: 20 | I39: 20 | J39: 20 | K39: 20 | L39: 20 | M39: 20 | N39: 20 | O39: 20 | P39: 20 | Q39: 20 | R39: 20 | S39: 20 | T39: 20
B40: 철강 | C40: 가동률 | D40: 84.775679 | E40: 76.846345 | F40: 80.018079 | G40: 79.383732 | H40: 80.969599 | I40: 80.018079 | J40: 79.383732 | K40: 80.018079 | L40: 80.018079 | M40: 80.018079 | N40: 80.018079 | O40: 80.018079 | P40: 80.018079 | Q40: 76.8 | R40: 76.846345 | S40: 80.018079 | T40: 73.7
B41: 기계 | C41: 가동률 | D41: 53.091089 | E41: 43.941984 | F41: 46.727024 | G41: 53.476404 | H41: 64.771926 | I41: 50.062129 | J41: 54.335622 | K41: 53.660592 | L41: 52.160523 | M41: 60.769463 | N41: 54.172596 | O41: 52.014023 | P41: 48.998242 | Q41: 56.1 | R41: 65.253767 | S41: 60.754157 | T41: 57.7
...

Sheet 주안
A1: 주안국가 산업단지 현황(2019.01~)
A3: 출처 : www.kicox.or.kr-정보공개-산업단지정보
A4: 구 분 | D4: 2019.1 | E4: 2 | F4: 3 | G4: 4 | H4: 5 | I4: 6 | J4: 7 | K4: 8 | L4: 9 | M4: 10 | N4: 11 | O4: 12 | P4: 2020.1 | Q4: 2 | R4: 3 | S4: 4 | T4: 5
A5: 입주업체수 (개사, %) | C5: 업체수 | D5: 1000 | E5: 1054 | F5: 1099 | G5: 1112 | H5: 1111 | I5: 1113 | J5: 1104 | K5: 1089 | L5: 1095 | M5: 1090 | N5: 1081 | O5: 1075 | P5: 1074 | Q5: 1078 | R5: 1080 | S5: 1076 | T5: 1080
C6: 증감률(전월대비) | E6: =(E5-D5)/D5 -> 0.054 | F6: =(F5-E5)/E5 -> 0.042694497 | G6: =(G5-F5)/F5 -> 0.011828935 | H6: =(H5-G5)/G5 -> -0.00089928058 | I6: =(I5-H5)/H5 -> 0.00180018 | J6: =(J5-I5)/I5 -> -0.0080862534 | K6: =(K5-J5)/J5 -> -0.013586957 | L6: =(L5-K5)/K5 -> 0.0055096419 | ... T6: =(T5-S5)/S5 -> 0.0037174721
A7: 임차업체수 (개사, %) | C7: 업체수 | D7: 306 | E7: 327 | F7: 333 | G7: 334 | H7: 339 | I7: 340 | J7: 340 | K7: 329 | L7: 336 | M7: 332 | N7: 324 | O7: 319 | P7: 320 | Q7: 321 | R7: 323 | S7: 323 | T7: 327
C8: 증감률(전월대비) | E8: =(E7-D7)/D7 -> 0.068627451 | F8: =(F7-E7)/E7 -> 0.018348624 | G8: =(G7-F7)/F7 -> 0.003003003 | H8: =(H7-G7)/G7 -> 0.01497006 | I8: =(I7-H7)/H7 -> 0.0029498525 | J8: =(J7-I7)/I7 -> 0 | K8: =(K7-J7)/J7 -> -0.032352941 | L8: =(L7-K7)/K7 -> 0.021276596 | ... T8: =(T7-S7)/S7 -> 0.012383901
A9: 업종별 입주업체수(개사, %) | B9: 음식료 | C9: 업체수 | D9: 22 | E9: 23 | F9: 24 | G9: 25 | H9: 26 | I9: 26 | J9: 22 | K9: 18 | L9: 19 | M9: 19 | N9: 19 | O9: 20 | P9: 20 | Q9: 20 | R9: 21 | S9: 20 | T9: 21
B10: 섬유의복 | C10: 업체수 | D10: 20 | E10: 20 | F10: 20 | G10: 20 | H10: 20 | I10: 20 | J10: 19 | K10: 19 | L10: 19 | M10: 18 | N10: 18 | O10: 18 | P10: 18 | Q10: 18 | R10: 17 | S10: 18 | T10: 19
B11: 목재종이 | C11: 업체수 | D11: 26 | E11: 30 | F11: 32 | G11: 32 | H11: 31 | I11: 31 | J11: 31 | K11: 30 | L11: 31 | M11: 32 | N11: 31 | O11: 31 | P11: 29 | Q11: 29 | R11: 29 | S11: 29 | T11: 29
B12: 석유화학 | C12: 업체수 | D12: 88 | E12: 91 | F12: 95 | G12: 96 | H12: 99 | I12: 100 | J12: 97 | K12: 98 | L12: 99 | M12: 97 | N12: 100 | O12: 101 | P12: 101 | Q12: 100 | R12: 99 | S12: 98 | T12: 100
B13: 비금속 | C13: 업체수 | D13: 0 | E13: 0 | F13: 3 | G13: 3 | H13: 3 | I13: 3 | J13: 3 | K13: 3 | L13: 3 | M13: 3 | N13: 3 | O13: 3 | P13: 3 | Q13: 3 | R13: 3 | S13: 3 | T13: 3
B14: 철강 | C14: 업체수 | D14: 12 | E14: 12 | F14: 12 | G14: 13 | H14: 13 | I14: 13 | J14: 13 | K14: 13 | L14: 13 | M14: 13 | N14: 12 | O14: 12 | P14: 12 | Q14: 12 | R14: 12 | S14: 11 | T14: 11
B15: 기계 | C15: 업체수 | D15: 336 | E15: 355 | F15: 367 | G15: 368 | H15: 361 | I15: 360 | J15: 360 | K15: 356 | L15: 358 | M15: 356 | N15: 351 | O15: 347 | P15: 348 | Q15: 350 | R15: 348 | S15: 351 | T15: 351
B16: 전기전자 | C16: 업체수 | D16: 318 | E16: 334 | F16: 349 | G16: 350 | H16: 352 | I16: 353 | J16: 351 | K16: 343 | L16: 342 | M16: 338 | N16: 333 | O16: 327 | P16: 325 | Q16: 325 | R16: 323 | S16: 322 | T16: 324
B17: 운송장비 | C17: 업체수 | D17: 24 | E17: 27 | F17: 27 | G17: 27 | H17: 27 | I17: 27 | J17: 27 | K17: 27 | L17: 27 | M17: 27 | N17: 27 | O17: 28 | P17: 28 | Q17: 28 | R17: 28 | S17: 28 | T17: 28
B18: 기타 | C18: 업체수 | D18: 53 | E18: 55 | F18: 54 | G18: 54 | H18: 53 | I18: 53 | J18: 53 | K18: 54 | L18: 54 | M18: 54 | N18: 53 | O18: 50 | P18: 51 | Q18: 51 | R18: 52 | S18: 51 | T18: 50
B19: 비제조 | C19: 업체수 | D19: 101 | E19: 107 | F19: 116 | G19: 124 | H19: 126 | I19: 127 | J19: 128 | K19: 128 | L19: 130 | M19: 133 | N19: 134 | O19: 138 | P19: 139 | Q19: 142 | R19: 148 | S19: 145 | T19: 144
B20: 계 | C20: 업체수 | D20: =D9+D10+D11+D12+D13+D14+D15+D16+D17+D18+D19 -> 1000 | E20: =E9+E10+E11+E12+E13+E14+E15+E16+E17+E18+E19 -> 1054 | F20: =F9+F10+F11+F12+F13+F14+F15+F16+F17+F18+F19 -> 1099 | G20: =G9+G10+G11+G12+G13+G14+G15+G16+G17+G18+G19 -> 1112 | H20: =H9+H10+H11+H12+H13+H14+H15+H16+H17+H18+H19 -> 1111 | I20: =I9+I10+I11+I12+I13+I14+I15+I16+I17+I18+I19 -> 1113 | J20: =J9+J10+J11+J12+J13+J14+J15+J16+J17+J18+J19 -> 1104 | K20: =K9+K10+K11+K12+K13+K14+K15+K16+K17+K18+K19 -> 1089 | ... S20: =S9+S10+S11+S12+S13+S14+S15+S16+S17+S18+S19 -> 1076 | T20: =SUM(T9:T19) -> 1080
C21: 증감률(전월대비) | E21: =(E20-D20)/D20 -> 0.054 | F21: =(F20-E20)/E20 -> 0.042694497 | G21: =(G20-F20)/F20 -> 0.011828935 | H21: =(H20-G20)/G20 -> -0.00089928058 | I21: =(I20-H20)/H20 -> 0.00180018 | J21: =(J20-I20)/I20 -> -0.0080862534 | K21: =(K20-J20)/J20 -> -0.013586957 | L21: =(L20-K20)/K20 -> 0.0055096419 | ... T21: =(T20-S20)/S20 -> 0.0037174721
A22: 업종별 가동업체수(개사, %) | B22: 음식료 | C22: 업체수 | D22: 22 | E22: 23 | F22: 24 | G22: 25 | H22: 26 | I22: 26 | J22: 22 | K22: 18 | L22: 19 | M22: 19 | N22: 19 | O22: 20 | P22: 20 | Q22: 20 | R22: 21 | S22: 20 | T22: 21
B23: 섬유의복 | C23: 업체수 | D23: 20 | E23: 20 | F23: 20 | G23: 20 | H23: 20 | I23: 20 | J23: 19 | K23: 19 | L23: 19 | M23: 18 | N23: 18 | O23: 18 | P23: 18 | Q23: 18 | R23: 17 | S23: 18 | T23: 19
B24: 목재종이 | C24: 업체수 | D24: 26 | E24: 30 | F24: 32 | G24: 32 | H24: 31 | I24: 31 | J24: 31 | K24: 30 | L24: 31 | M24: 32 | N24: 31 | O24: 31 | P24: 29 | Q24: 29 | R24: 29 | S24: 29 | T24: 29
B25: 석유화학 | C25: 업체수 | D25: 88 | E25: 91 | F25: 95 | G25: 96 | H25: 99 | I25: 100 | J25: 97 | K25: 98 | L25: 99 | M25: 97 | N25: 100 | O25: 101 | P25: 101 | Q25: 100 | R25: 99 | S25: 98 | T25: 100
B26: 비금속 | C26: 업체수 | D26: 0 | E26: 0 | F26: 3 | G26: 3 | H26: 3 | I26: 3 | J26: 3 | K26: 3 | L26: 3 | M26: 3 | N26: 3 | O26: 3 | P26: 3 | Q26: 3 | R26: 3 | S26: 3 | T26: 3
B27: 철강 | C27: 업체수 | D27: 12 | E27: 12 | F27: 12 | G27: 13 | H27: 13 | I27: 13 | J27: 13 | K27: 13 | L27: 13 | M27: 13 | N27: 12 | O27: 12 | P27: 12 | Q27: 12 | R27: 12 | S27: 11 | T27: 11
B28: 기계 | C28: 업체수 | D28: 336 | E28: 355 | F28: 367 | G28: 368 | H28: 361 | I28: 360 | J28: 360 | K28: 356 | L28: 358 | M28: 356 | N28: 351 | O28: 347 | P28: 348 | Q28: 350 | R28: 348 | S28: 351 | T28: 351
B29: 전기전자 | C29: 업체수 | D29: 318 | E29: 334 | F29: 349 | G29: 348 | H29: 352 | I29: 353 | J29: 351 | K29: 343 | L29: 342 | M29: 338 | N29: 333 | O29: 327 | P29: 325 | Q29: 325 | R29: 323 | S29: 322 | T29: 324
B30: 운송장비 | C30: 업체수 | D30: 24 | E30: 27 | F30: 27 | G30: 27 | H30: 27 | I30: 27 | J30: 27 | K30: 27 | L30: 27 | M30: 27 | N30: 27 | O30: 28 | P30: 28 | Q30: 28 | R30: 28 | S30: 28 | T30: 28
B31: 기타 | C31: 업체수 | D31: 53 | E31: 55 | F31: 54 | G31: 54 | H31: 53 | I31: 53 | J31: 53 | K31: 54 | L31: 54 | M31: 54 | N31: 53 | O31: 50 | P31: 51 | Q31: 51 | R31: 52 | S31: 51 | T31: 50
B32: 비제조 | C32: 업체수 | D32: 101 | E32: 107 | F32: 116 | G32: 124 | H32: 126 | I32: 127 | J32: 128 | K32: 128 | L32: 130 | M32: 133 | N32: 134 | O32: 138 | P32: 139 | Q32: 142 | R32: 148 | S32: 145 | T32: 144
B33: 계 | C33: 업체수 | D33: =D22+D23+D24+D25+D26+D27+D28+D29+D30+D31+D32 -> 1000 | E33: =E22+E23+E24+E25+E26+E27+E28+E29+E30+E31+E32 -> 1054 | F33: =F22+F23+F24+F25+F26+F27+F28+F29+F30+F31+F32 -> 1099 | G33: =G22+G23+G24+G25+G26+G27+G28+G29+G30+G31+G32 -> 1110 | H33: =H22+H23+H24+H25+H26+H27+H28+H29+H30+H31+H32 -> 1111 | I33: =I22+I23+I24+I25+I26+I27+I28+I29+I30+I31+I32 -> 1113 | J33: =J22+J23+J24+J25+J26+J27+J28+J29+J30+J31+J32 -> 1104 | K33: =K22+K23+K24+K25+K26+K27+K28+K29+K30+K31+K32 -> 1089 | ... S33: =S22+S23+S24+S25+S26+S27+S28+S29+S30+S31+S32 -> 1076 | T33: =SUM(T22:T32) -> 1080
C34: 증감률(전월대비) | E34: =(E33-D33)/D33 -> 0.054 | F34: =(F33-E33)/E33 -> 0.042694497 | G34: =(G33-F33)/F33 -> 0.010009099 | H34: =(H33-G33)/G33 -> 0.0009009009 | I34: =(I33-H33)/H33 -> 0.00180018 | J34: =(J33-I33)/I33 -> -0.0080862534 | K34: =(K33-J33)/J33 -> -0.013586957 | L34: =(L33-K33)/K33 -> 0.0055096419 | ... T34: =(T33-S33)/S33 -> 0.0037174721
A35: 업종별 가동률(%) | B35: 음식료 | C35: 가동률 | D35: 91.071429 | E35: 79.6875 | F35: 93.636364 | G35: 92.025989 | H35: 92.385787 | I35: 90.784983 | J35: 91.094987 | K35: 90.28777 | L35: 98.240469 | M35: 96.430696 | N35: 96.298581 | O35: 96.398559 | P35: 70.979755 | Q35: 92.8 | R35: 77.8697 | S35: 93.485005 | T35: 77.662875
B36: 섬유의복 | C36: 가동률 | D36: 89.856922 | E36: 87.829846 | F36: 89.60646 | G36: 90.803804 | H36: 90.816235 | I36: 88.619571 | J36: 88.640636 | K36: 90.552945 | L36: 90.926924 | M36: 90.91539 | N36: 90.10003 | O36: 87.830253 | P36: 66.781598 | Q36: 80.1 | R36: 85.147118 | S36: 81.601481 | T36: 84.453782
A37: 가동률은 제조업 가동업체 대상 | B37: 목재종이 | C37: 가동률 | D37: 81.640075 | E37: 78.296358 | F37: 73.947822 | G37: 73.895502 | H37: 75.963373 | I37: 76.285463 | J37: 79 | K37: 81.210368 | L37: 81.530079 | M37: 87.094862 | N37: 89.13562 | O37: 90.50389 | P37: 83.889616 | Q37: 90.7 | R37: 89.896333 | S37: 94.512195 | T37: 94.644127
B38: 석유화학 | C38: 가동률 | D38: 62.919258 | E38: 62.58633 | F38: 63.465809 | G38: 63.511328 | H38: 63.779338 | I38: 63.626938 | J38: 64.591625 | K38: 60.847917 | L38: 61.327657 | M38: 62.403022 | N38: 62.683503 | O38: 64.26229 | P38: 85.063988 | Q38: 80.2 | R38: 78.664196 | S38: 78.754329 | T38: 76.270479
B39: 비금속 | C39: 가동률 | F39: 100 | G39: 100 | H39: 100 | I39: 100 | J39: 100 | K39: 100 | L39: 100 | M39: 100 | N39: 100 | O39: 100 | P39: 20 | Q39: 100 | R39: 100 | S39: 100 | T39: 100
B40: 철강 | C40: 가동률 | D40: 72.376749 | E40: 65.78868 | F40: 88.732875 | G40: 82.15238 | H40: 87.241133 | I40: 81.382263 | J40: 90.561996 | K40: 56.149992 | L40: 57.742195 | M40: 58.092844 | N40: 49.970197 | O40: 58.971725 | P40: 80.018079 | Q40: 55.8 | R40: 57.865084 | S40: 66.924685 | T40: 67.301814
B41: 기계 | C41: 가동률 | D41: 86.947349 | E41: 74.458802 | F41: 81.792065 | G41: 73.645395 | H41: 71.746331 | I41: 71.719141 | J41: 72.809011 | K41: 69.346479 | L41: 73.687158 | M41: 71.603417 | N41: 68.960166 | O41: 70.660411 | P41: 48.998242 | Q41: 55.5 | R41: 63.262955 | S41: 59.391468 | T41: 57.103419
...
